Workbook

Sheet 結果サマリー
A1: 住宅ローン 繰上返済シミュレーション
A2: Copyright© 2026 F&S-Expert ,Inc. All Rights Reserved.
A3: 通常月額は60回ごとに見直し（繰上減額の反映時期は入力設定が可能）
F4: 配信開始日 | G4: 使用期限 | H4: ステータス | I4: =IF(TODAY()<=G5,TRUE,FALSE) -> TRUE
A5: 比較項目 | B5: 繰上返済なし | C5: 繰上返済あり | D5: 改善額・短縮回数 | F5: 46266 | G5: =EDATE(F5,4) -> 46388 | H5: =IF(I4, "使用期間中", "使用期限終了") -> 使用期間中 | K5: 経過年 | L5: 繰上なし残高（万円） | M5: 繰上あり残高（万円） | O5: 経過年 | P5: 利息（繰上なし） | Q5: 元金（繰上なし） | R5: 利息（繰上あり） | S5: 元金（繰上あり） | T5: 通常返済額（繰上なし） | U5: 通常返済額（繰上あり） | V5: 共通目盛り上限（円） | W5: 目盛り用余白（なし） | X5: 目盛り用余白（あり）
A6: 支払利息（円） | B6: =SUM(月次返済表!S6:S605) -> 21526350 | C6: =SUM(月次返済表!H6:H605) -> 16693206 | D6: =B6-C6 -> 4833144.2 | F6: ※使用期間を過ぎると使用できなくなります | K6: 0 | L6: =入力設定!B5/10000 -> 3500 | M6: =入力設定!B5/10000 -> 3500 | O6: =TEXT((月次返済表!A6-1)/12,"0.0") -> 0.0 | P6: =月次返済表!S6 -> 32375 | Q6: =月次返済表!T6 -> 68229.402 | R6: =月次返済表!H6 -> 32375 | S6: =月次返済表!I6 -> 68229.402 | T6: =月次返済表!R6 -> 100604.4 | U6: =月次返済表!G6 -> 100604.4 | V6: =MAX(T6:U603) -> 150233.44 | W6: =$V$6-T6 -> 49629.037 | X6: =$V$6-U6 -> 49629.037
A7: 返済総額・手数料込（円） | B7: =SUM(月次返済表!R6:R605) -> 56526350 | C7: =SUM(月次返済表!O6:O605) -> 51693206 | D7: =B7-C7 -> 4833144.2 | K7: 1 | L7: =月次返済表!U17/10000 -> 3417.7069 | M7: =月次返済表!M17/10000 -> 3417.7069 | O7: =TEXT((月次返済表!A7-1)/12,"0.0") -> 0.1 | P7: =月次返済表!S7 -> 32311.888 | Q7: =月次返済表!T7 -> 68292.514 | R7: =月次返済表!H7 -> 32311.888 | S7: =月次返済表!I7 -> 68292.514 | T7: =月次返済表!R7 -> 100604.4 | U7: =月次返済表!G7 -> 100604.4 | W7: =$V$6-T7 -> 49629.037 | X7: =$V$6-U7 -> 49629.037
A8: 実行繰上返済額（円） | B8: =0 -> 0 | C8: =SUM(月次返済表!K6:K605) -> 3000000 | D8: =0 -> 0 | K8: 2 | L8: =月次返済表!U29/10000 -> 3334.4957 | M8: =月次返済表!M29/10000 -> 3334.4957 | O8: =TEXT((月次返済表!A8-1)/12,"0.0") -> 0.2 | P8: =月次返済表!S8 -> 32248.717 | Q8: =月次返済表!T8 -> 68355.684 | R8: =月次返済表!H8 -> 32248.717 | S8: =月次返済表!I8 -> 68355.684 | T8: =月次返済表!R8 -> 100604.4 | U8: =月次返済表!G8 -> 100604.4 | W8: =$V$6-T8 -> 49629.037 | X8: =$V$6-U8 -> 49629.037
A9: 手数料（円） | B9: =0 -> 0 | C9: =SUM(月次返済表!L6:L605) -> 0 | D9: =B9-C9 -> 0 | K9: 3 | L9: =月次返済表!U41/10000 -> 3250.3561 | M9: =月次返済表!M41/10000 -> 3250.3561 | O9: =TEXT((月次返済表!A9-1)/12,"0.0") -> 0.3 | P9: =月次返済表!S9 -> 32185.488 | Q9: =月次返済表!T9 -> 68418.913 | R9: =月次返済表!H9 -> 32185.488 | S9: =月次返済表!I9 -> 68418.913 | T9: =月次返済表!R9 -> 100604.4 | U9: =月次返済表!G9 -> 100604.4 | W9: =$V$6-T9 -> 49629.037 | X9: =$V$6-U9 -> 49629.037
A10: 返済回数（月） | B10: =COUNTIFS(月次返済表!P6:P605,">0.000001")+COUNTIFS(月次返済表!P6:P605,"<=0.000001",月次返済表!AC6:AC605,">0.000001") -> 420 | C10: =COUNTIFS(月次返済表!D6:D605,">0.000001")+COUNTIFS(月次返済表!D6:D605,"<=0.000001",月次返済表!Z6:Z605,">0.000001") -> 380 | D10: =B10-C10 -> 40 | F10: Copyright© 2026 F&S-Expert ,Inc. All Rights Reserved. | K10: 4 | L10: =月次返済表!U53/10000 -> 3165.2778 | M10: =月次返済表!M53/10000 -> 3165.2778 | O10: =TEXT((月次返済表!A10-1)/12,"0.0") -> 0.3 | P10: =月次返済表!S10 -> 32122.201 | Q10: =月次返済表!T10 -> 68482.201 | R10: =月次返済表!H10 -> 32122.201 | S10: =月次返済表!I10 -> 68482.201 | T10: =月次返済表!R10 -> 100604.4 | U10: =月次返済表!G10 -> 100604.4 | W10: =$V$6-T10 -> 49629.037 | X10: =$V$6-U10 -> 49629.037
A11: 完済月 | B11: =EDATE(入力設定!B7,B10-1) -> 59080 | C11: =EDATE(入力設定!B7,C10-1) -> 57862 | D11: ="" | K11: 5 | L11: =月次返済表!U65/10000 -> 3079.2503 | M11: =月次返済表!M65/10000 -> 2779.2503 | O11: =TEXT((月次返済表!A11-1)/12,"0.0") -> 0.4 | P11: =月次返済表!S11 -> 32058.855 | Q11: =月次返済表!T11 -> 68545.547 | R11: =月次返済表!H11 -> 32058.855 | S11: =月次返済表!I11 -> 68545.547 | T11: =月次返済表!R11 -> 100604.4 | U11: =月次返済表!G11 -> 100604.4 | W11: =$V$6-T11 -> 49629.037 | X11: =$V$6-U11 -> 49629.037
A12: 初回通常返済額（円） | B12: =月次返済表!R6 -> 100604.4 | C12: =月次返済表!G6 -> 100604.4 | D12: =B12-C12 -> 0 | K12: 6 | L12: =月次返済表!U77/10000 -> 3009.434 | M12: =月次返済表!M77/10000 -> 2704.9856 | O12: =TEXT((月次返済表!A12-1)/12,"0.0") -> 0.5 | P12: =月次返済表!S12 -> 31995.45 | Q12: =月次返済表!T12 -> 68608.952 | R12: =月次返済表!H12 -> 31995.45 | S12: =月次返済表!I12 -> 68608.952 | T12: =月次返済表!R12 -> 100604.4 | U12: =月次返済表!G12 -> 100604.4 | W12: =$V$6-T12 -> 49629.037 | X12: =$V$6-U12 -> 49629.037
A13: 最大通常返済額（円） | B13: =MAX(月次返済表!R6:R605) -> 150233.44 | C13: =MAX(月次返済表!G6:G605) -> 142266.6 | D13: =B13-C13 -> 7966.841 | K13: 7 | L13: =月次返済表!U89/10000 -> 2937.8523 | M13: =月次返済表!M89/10000 -> 2628.8428 | O13: =TEXT((月次返済表!A13-1)/12,"0.0") -> 0.6 | P13: =月次返済表!S13 -> 31931.987 | Q13: =月次返済表!T13 -> 68672.415 | R13: =月次返済表!H13 -> 31931.987 | S13: =月次返済表!I13 -> 68672.415 | T13: =月次返済表!R13 -> 100604.4 | U13: =月次返済表!G13 -> 100604.4 | W13: =$V$6-T13 -> 49629.037 | X13: =$V$6-U13 -> 49629.037
K14: 8 | L14: =月次返済表!U101/10000 -> 2864.4603 | M14: =月次返済表!M101/10000 -> 2550.7744 | O14: =TEXT((月次返済表!A14-1)/12,"0.0") -> 0.7 | P14: =月次返済表!S14 -> 31868.465 | Q14: =月次返済表!T14 -> 68735.937 | R14: =月次返済表!H14 -> 31868.465 | S14: =月次返済表!I14 -> 68735.937 | T14: =月次返済表!R14 -> 100604.4 | U14: =月次返済表!G14 -> 100604.4 | W14: =$V$6-T14 -> 49629.037 | X14: =$V$6-U14 -> 49629.037
A15: 選択方式 | B15: =入力設定!B8 -> 期間短縮型 | K15: 9 | L15: =月次返済表!U113/10000 -> 2789.2123 | M15: =月次返済表!M113/10000 -> 2470.7319 | O15: =TEXT((月次返済表!A15-1)/12,"0.0") -> 0.8 | P15: =月次返済表!S15 -> 31804.884 | Q15: =月次返済表!T15 -> 68799.518 | R15: =月次返済表!H15 -> 31804.884 | S15: =月次返済表!I15 -> 68799.518 | T15: =月次返済表!R15 -> 100604.4 | U15: =月次返済表!G15 -> 100604.4 | W15: =$V$6-T15 -> 49629.037 | X15: =$V$6-U15 -> 49629.037
K16: 10 | L16: =月次返済表!U125/10000 -> 2712.0614 | M16: =月次返済表!M125/10000 -> 2388.6652 | O16: =TEXT((月次返済表!A16-1)/12,"0.0") -> 0.8 | P16: =月次返済表!S16 -> 31741.244 | Q16: =月次返済表!T16 -> 68863.157 | R16: =月次返済表!H16 -> 31741.244 | S16: =月次返済表!I16 -> 68863.157 | T16: =月次返済表!R16 -> 100604.4 | U16: =月次返済表!G16 -> 100604.4 | W16: =$V$6-T16 -> 49629.037 | X16: =$V$6-U16 -> 49629.037
A17: ※改善額は「なし－あり」。総額の改善額は手数料控除後です | K17: 11 | L17: =月次返済表!U137/10000 -> 2638.0807 | M17: =月次返済表!M137/10000 -> 2309.1745 | O17: =TEXT((月次返済表!A17-1)/12,"0.0") -> 0.9 | P17: =月次返済表!S17 -> 31677.546 | Q17: =月次返済表!T17 -> 68926.856 | R17: =月次返済表!H17 -> 31677.546 | S17: =月次返済表!I17 -> 68926.856 | T17: =月次返済表!R17 -> 100604.4 | U17: =月次返済表!G17 -> 100604.4 | W17: =$V$6-T17 -> 49629.037 | X17: =$V$6-U17 -> 49629.037
A18: ※36～50年の金利も入力可能で月次表は最大600回まで計算 | K18: 12 | L18: =月次返済表!U149/10000 -> 2561.8498 | M18: =月次返済表!M149/10000 -> 2227.266 | O18: =TEXT((月次返済表!A18-1)/12,"0.0") -> 1.0 | P18: =月次返済表!S18 -> 31613.789 | Q18: =月次返済表!T18 -> 68990.613 | R18: =月次返済表!H18 -> 31613.789 | S18: =月次返済表!I18 -> 68990.613 | T18: =月次返済表!R18 -> 100604.4 | U18: =月次返済表!G18 -> 100604.4 | W18: =$V$6-T18 -> 49629.037 | X18: =$V$6-U18 -> 49629.037
A19: ※1.25倍（125%）ルールは適用させていません | K19: 13 | L19: =月次返済表!U161/10000 -> 2483.3003 | M19: =月次返済表!M161/10000 -> 2142.8661 | O19: =TEXT((月次返済表!A19-1)/12,"0.0") -> 1.1 | P19: =月次返済表!S19 -> 31549.972 | Q19: =月次返済表!T19 -> 69054.429 | R19: =月次返済表!H19 -> 31549.972 | S19: =月次返済表!I19 -> 69054.429 | T19: =月次返済表!R19 -> 100604.4 | U19: =月次返済表!G19 -> 100604.4 | W19: =$V$6-T19 -> 49629.037 | X19: =$V$6-U19 -> 49629.037
K20: 14 | L20: =月次返済表!U173/10000 -> 2402.3616 | M20: =月次返済表!M173/10000 -> 2055.8992 | O20: =TEXT((月次返済表!A20-1)/12,"0.0") -> 1.2 | P20: =月次返済表!S20 -> 31486.097 | Q20: =月次返済表!T20 -> 69118.305 | R20: =月次返済表!H20 -> 31486.097 | S20: =月次返済表!I20 -> 69118.305 | T20: =月次返済表!R20 -> 100604.4 | U20: =月次返済表!G20 -> 100604.4 | W20: =$V$6-T20 -> 49629.037 | X20: =$V$6-U20 -> 49629.037
K21: 15 | L21: =月次返済表!U185/10000 -> 2318.961 | M21: =月次返済表!M185/10000 -> 1966.2871 | O21: =TEXT((月次返済表!A21-1)/12,"0.0") -> 1.3 | P21: =月次返済表!S21 -> 31422.163 | Q21: =月次返済表!T21 -> 69182.239 | R21: =月次返済表!H21 -> 31422.163 | S21: =月次返済表!I21 -> 69182.239 | T21: =月次返済表!R21 -> 100604.4 | U21: =月次返済表!G21 -> 100604.4 | W21: =$V$6-T21 -> 49629.037 | X21: =$V$6-U21 -> 49629.037
K22: 16 | L22: =月次返済表!U197/10000 -> 2241.6836 | M22: =月次返済表!M197/10000 -> 1881.5667 | O22: =TEXT((月次返済表!A22-1)/12,"0.0") -> 1.3 | P22: =月次返済表!S22 -> 31358.169 | Q22: =月次返済表!T22 -> 69246.233 | R22: =月次返済表!H22 -> 31358.169 | S22: =月次返済表!I22 -> 69246.233 | T22: =月次返済表!R22 -> 100604.4 | U22: =月次返済表!G22 -> 100604.4 | W22: =$V$6-T22 -> 49629.037 | X22: =$V$6-U22 -> 49629.037
K23: 17 | L23: =月次返済表!U209/10000 -> 2161.2577 | M23: =月次返済表!M209/10000 -> 1793.3946 | O23: =TEXT((月次返済表!A23-1)/12,"0.0") -> 1.4 | P23: =月次返済表!S23 -> 31294.116 | Q23: =月次返済表!T23 -> 69310.285 | R23: =月次返済表!H23 -> 31294.116 | S23: =月次返済表!I23 -> 69310.285 | T23: =月次返済表!R23 -> 100604.4 | U23: =月次返済表!G23 -> 100604.4 | W23: =$V$6-T23 -> 49629.037 | X23: =$V$6-U23 -> 49629.037
K24: 18 | L24: =月次返済表!U221/10000 -> 2077.5551 | M24: =月次返済表!M221/10000 -> 1701.6303 | O24: =TEXT((月次返済表!A24-1)/12,"0.0") -> 1.5 | P24: =月次返済表!S24 -> 31230.004 | Q24: =月次返済表!T24 -> 69374.397 | R24: =月次返済表!H24 -> 31230.004 | S24: =月次返済表!I24 -> 69374.397 | T24: =月次返済表!R24 -> 100604.4 | U24: =月次返済表!G24 -> 100604.4 | W24: =$V$6-T24 -> 49629.037 | X24: =$V$6-U24 -> 49629.037
K25: 19 | L25: =月次返済表!U233/10000 -> 1990.4424 | M25: =月次返済表!M233/10000 -> 1606.1274 | O25: =TEXT((月次返済表!A25-1)/12,"0.0") -> 1.6 | P25: =月次返済表!S25 -> 31165.833 | Q25: =月次返済表!T25 -> 69438.569 | R25: =月次返済表!H25 -> 31165.833 | S25: =月次返済表!I25 -> 69438.569 | T25: =月次返済表!R25 -> 100604.4 | U25: =月次返済表!G25 -> 100604.4 | W25: =$V$6-T25 -> 49629.037 | X25: =$V$6-U25 -> 49629.037
K26: 20 | L26: =月次返済表!U245/10000 -> 1899.7806 | M26: =月次返済表!M245/10000 -> 1506.7335 | O26: =TEXT((月次返済表!A26-1)/12,"0.0") -> 1.7 | P26: =月次返済表!S26 -> 31101.602 | Q26: =月次返済表!T26 -> 69502.799 | R26: =月次返済表!H26 -> 31101.602 | S26: =月次返済表!I26 -> 69502.799 | T26: =月次返済表!R26 -> 100604.4 | U26: =月次返済表!G26 -> 100604.4 | W26: =$V$6-T26 -> 49629.037 | X26: =$V$6-U26 -> 49629.037
K27: 21 | L27: =月次返済表!U257/10000 -> 1812.5075 | M27: =月次返済表!M257/10000 -> 1409.1338 | O27: =TEXT((月次返済表!A27-1)/12,"0.0") -> 1.8 | P27: =月次返済表!S27 -> 31037.312 | Q27: =月次返済表!T27 -> 69567.089 | R27: =月次返済表!H27 -> 31037.312 | S27: =月次返済表!I27 -> 69567.089 | T27: =月次返済表!R27 -> 100604.4 | U27: =月次返済表!G27 -> 100604.4 | W27: =$V$6-T27 -> 49629.037 | X27: =$V$6-U27 -> 49629.037
K28: 22 | L28: =月次返済表!U269/10000 -> 1720.7694 | M28: =月次返済表!M269/10000 -> 1306.5407 | O28: =TEXT((月次返済表!A28-1)/12,"0.0") -> 1.8 | P28: =月次返済表!S28 -> 30972.963 | Q28: =月次返済表!T28 -> 69631.439 | R28: =月次返済表!H28 -> 30972.963 | S28: =月次返済表!I28 -> 69631.439 | T28: =月次返済表!R28 -> 100604.4 | U28: =月次返済表!G28 -> 100604.4 | W28: =$V$6-T28 -> 49629.037 | X28: =$V$6-U28 -> 49629.037
K29: 23 | L29: =月次返済表!U281/10000 -> 1624.3377 | M29: =月次返済表!M281/10000 -> 1198.6987 | O29: =TEXT((月次返済表!A29-1)/12,"0.0") -> 1.9 | P29: =月次返済表!S29 -> 30908.554 | Q29: =月次返済表!T29 -> 69695.848 | R29: =月次返済表!H29 -> 30908.554 | S29: =月次返済表!I29 -> 69695.848 | T29: =月次返済表!R29 -> 100604.4 | U29: =月次返済表!G29 -> 100604.4 | W29: =$V$6-T29 -> 49629.037 | X29: =$V$6-U29 -> 49629.037
K30: 24 | L30: =月次返済表!U293/10000 -> 1522.9725 | M30: =月次返済表!M293/10000 -> 1085.3393 | O30: =TEXT((月次返済表!A30-1)/12,"0.0") -> 2.0 | P30: =月次返済表!S30 -> 30844.085 | Q30: =月次返済表!T30 -> 69760.317 | R30: =月次返済表!H30 -> 30844.085 | S30: =月次返済表!I30 -> 69760.317 | T30: =月次返済表!R30 -> 100604.4 | U30: =月次返済表!G30 -> 100604.4 | W30: =$V$6-T30 -> 49629.037 | X30: =$V$6-U30 -> 49629.037
K31: 25 | L31: =月次返済表!U305/10000 -> 1416.4211 | M31: =月次返済表!M305/10000 -> 966.18017 | O31: =TEXT((月次返済表!A31-1)/12,"0.0") -> 2.1 | P31: =月次返済表!S31 -> 30779.557 | Q31: =月次返済表!T31 -> 69824.845 | R31: =月次返済表!H31 -> 30779.557 | S31: =月次返済表!I31 -> 69824.845 | T31: =月次返済表!R31 -> 100604.4 | U31: =月次返済表!G31 -> 100604.4 | W31: =$V$6-T31 -> 49629.037 | X31: =$V$6-U31 -> 49629.037
K32: 26 | L32: =月次返済表!U317/10000 -> 1304.4185 | M32: =月次返済表!M317/10000 -> 840.92468 | O32: =TEXT((月次返済表!A32-1)/12,"0.0") -> 2.2 | P32: =月次返済表!S32 -> 30714.969 | Q32: =月次返済表!T32 -> 69889.433 | R32: =月次返済表!H32 -> 30714.969 | S32: =月次返済表!I32 -> 69889.433 | T32: =月次返済表!R32 -> 100604.4 | U32: =月次返済表!G32 -> 100604.4 | W32: =$V$6-T32 -> 49629.037 | X32: =$V$6-U32 -> 49629.037
K33: 27 | L33: =月次返済表!U329/10000 -> 1186.6855 | M33: =月次返済表!M329/10000 -> 709.26088 | O33: =TEXT((月次返済表!A33-1)/12,"0.0") -> 2.3 | P33: =月次返済表!S33 -> 30650.321 | Q33: =月次返済表!T33 -> 69954.081 | R33: =月次返済表!H33 -> 30650.321 | S33: =月次返済表!I33 -> 69954.081 | T33: =月次返済表!R33 -> 100604.4 | U33: =月次返済表!G33 -> 100604.4 | W33: =$V$6-T33 -> 49629.037 | X33: =$V$6-U33 -> 49629.037
K34: 28 | L34: =月次返済表!U341/10000 -> 1062.9291 | M34: =月次返済表!M341/10000 -> 570.86092 | O34: =TEXT((月次返済表!A34-1)/12,"0.0") -> 2.3 | P34: =月次返済表!S34 -> 30585.613 | Q34: =月次返済表!T34 -> 70018.788 | R34: =月次返済表!H34 -> 30585.613 | S34: =月次返済表!I34 -> 70018.788 | T34: =月次返済表!R34 -> 100604.4 | U34: =月次返済表!G34 -> 100604.4 | W34: =$V$6-T34 -> 49629.037 | X34: =$V$6-U34 -> 49629.037
K35: 29 | L35: =月次返済表!U353/10000 -> 932.84115 | M35: =月次返済表!M353/10000 -> 425.38014 | O35: =TEXT((月次返済表!A35-1)/12,"0.0") -> 2.4 | P35: =月次返済表!S35 -> 30520.846 | Q35: =月次返済表!T35 -> 70083.556 | R35: =月次返済表!H35 -> 30520.846 | S35: =月次返済表!I35 -> 70083.556 | T35: =月次返済表!R35 -> 100604.4 | U35: =月次返済表!G35 -> 100604.4 | W35: =$V$6-T35 -> 49629.037 | X35: =$V$6-U35 -> 49629.037
K36: 30 | L36: =月次返済表!U365/10000 -> 796.0976 | M36: =月次返済表!M365/10000 -> 272.4563 | O36: =TEXT((月次返済表!A36-1)/12,"0.0") -> 2.5 | P36: =月次返済表!S36 -> 30456.019 | Q36: =月次返済表!T36 -> 70148.383 | R36: =月次返済表!H36 -> 30456.019 | S36: =月次返済表!I36 -> 70148.383 | T36: =月次返済表!R36 -> 100604.4 | U36: =月次返済表!G36 -> 100604.4 | W36: =$V$6-T36 -> 49629.037 | X36: =$V$6-U36 -> 49629.037
K37: 31 | L37: =月次返済表!U377/10000 -> 652.358 | M37: =月次返済表!M377/10000 -> 111.70858 | O37: =TEXT((月次返済表!A37-1)/12,"0.0") -> 2.6 | P37: =月次返済表!S37 -> 30391.131 | Q37: =月次返済表!T37 -> 70213.27 | R37: =月次返済表!H37 -> 30391.131 | S37: =月次返済表!I37 -> 70213.27 | T37: =月次返済表!R37 -> 100604.4 | U37: =月次返済表!G37 -> 100604.4 | W37: =$V$6-T37 -> 49629.037 | X37: =$V$6-U37 -> 49629.037
A38: 毎月の通常返済額を表示。繰上返済額・手数料は含みません。完済後は0円。横軸は初回返済からの経過年。 | K38: 32 | L38: =月次返済表!U389/10000 -> 501.2644 | M38: =月次返済表!M389/10000 -> 0 | O38: =TEXT((月次返済表!A38-1)/12,"0.0") -> 2.7 | P38: =月次返済表!S38 -> 30326.184 | Q38: =月次返済表!T38 -> 70278.217 | R38: =月次返済表!H38 -> 30326.184 | S38: =月次返済表!I38 -> 70278.217 | T38: =月次返済表!R38 -> 100604.4 | U38: =月次返済表!G38 -> 100604.4 | W38: =$V$6-T38 -> 49629.037 | X38: =$V$6-U38 -> 49629.037
K39: 35 | L39: =月次返済表!U425/10000 -> 0 | M39: =月次返済表!M425/10000 -> 0 | O39: =TEXT((月次返済表!A41-1)/12,"0.0") -> 2.9 | P39: =月次返済表!S41 -> 30130.982 | Q39: =月次返済表!T41 -> 70473.42 | R39: =月次返済表!H41 -> 30130.982 | S39: =月次返済表!I41 -> 70473.42 | T39: =月次返済表!R41 -> 100604.4 | U39: =月次返済表!G41 -> 100604.4 | W39: =$V$6-T39 -> 49629.037 | X39: =$V$6-U39 -> 49629.037
K40: 36 | L40: =月次返済表!U437/10000 -> 0 | M40: =月次返済表!M437/10000 -> 0 | O40: =TEXT((月次返済表!A42-1)/12,"0.0") -> 3.0 | P40: =月次返済表!S42 -> 30065.794 | Q40: =月次返済表!T42 -> 70538.608 | R40: =月次返済表!H42 -> 30065.794 | S40: =月次返済表!I42 -> 70538.608 | T40: =月次返済表!R42 -> 100604.4 | U40: =月次返済表!G42 -> 100604.4 | W40: =$V$6-T40 -> 49629.037 | X40: =$V$6-U40 -> 49629.037
...

Sheet 入力設定
A1: 住宅ローンの入力設定
A2: Copyright© 2026 F&S-Expert ,Inc. All Rights Reserved.
A3: 黄色・青字のセルを変更。初期値は入力例です。 | E3: ◆繰り上げ返済設定
E4: No. | F4: 繰上返済回目 | G4: 希望繰上額（円）
A5: 借入金額（円） | B5: 35000000 | E5: 1 | F5: 60 | G5: 3000000
A6: 返済期間（年） | B6: 35 | E6: 2
A7: 初回返済月 | B7: 46327 | E7: 3
A8: 繰上返済の方式 | B8: 期間短縮型 | E8: 4
A9: 繰上1回の手数料（円） | B9: 0 | E9: 5
A10: 返済方法 | B10: 元利均等 | E10: 6
A11: 繰上減額の反映時期 | B11: 翌月 | E11: 7
E12: 8
A13: ◆金利設定（5年ごとの金利が可能です） | E13: 9
A14: 適用開始年 | B14: 適用終了年 | C14: 年利 | E14: 10
A15: 1 | B15: 5 | C15: 0.0111 | E15: 11
A16: 6 | B16: 10 | C16: 0.025 | E16: 12
A17: 11 | B17: 15 | C17: 0.03 | E17: 13
A18: 16 | B18: 20 | C18: 0.04 | E18: 14
A19: 21 | B19: 25 | C19: 0.05 | E19: 15
A20: 26 | B20: 30 | C20: 0.05 | E20: 16
A21: 31 | B21: 35 | C21: 0.05 | E21: 17
A22: 36 | B22: 40 | C22: 0.05 | E22: 18
A23: 41 | B23: 45 | C23: 0.05 | E23: 19
A24: 46 | B24: 50 | C24: 0.05 | E24: 20

Sheet 月次返済表
A1: 月次返済表（円）
A2: Copyright© 2026 F&S-Expert ,Inc. All Rights Reserved.
A4: ※1.25倍（125%）ルールは適用させていません
A5: 回目 | B5: 返済月 | C5: 年利 | D5: 期首残高 | E5: 期首残回数 | F5: 予定月額 | G5: 通常返済 | H5: 支払利息 | I5: 通常元金 | J5: 希望繰上額 | K5: 実行繰上額 | L5: 手数料 | M5: 月末残高 | N5: 期末残回数 | O5: 支出合計 | P5: なし期首残高 | Q5: なし予定月額 | R5: なし通常返済 | S5: なし支払利息 | T5: なし元金 | U5: なし月末残高 | V5: 元金差額 | W5: なし元金差額 | X5: 支出差額 | Y5: 発生利息 | Z5: 期首未払利息 | AA5: 期末未払利息 | AB5: なし発生利息 | AC5: なし期首未払利息 | AD5: なし期末未払利息 | AE5: 60回見直し | AF5: 月次年利の不正入力
A6: =IF(結果サマリー!H5="使用期間中",1,0) -> 1 | B6: =EDATE(入力設定!$B$7,A6-1) -> 46327 | C6: =INDEX(入力設定!$C$15:$C$24,INT((A6-1)/60)+1) -> 0.0111 | D6: =入力設定!$B$5 -> 35000000 | E6: =入力設定!$B$6*12 -> 420 | F6: =IF(D6+Z6<0.000001,0,IF(D6<0.000001,0,IF(TRUE,IF(C6=0,D6/MAX(1,E6),D6*(C6/12)/(1-(1+C6/12)^(-MAX(1,E6)))),0))) -> 100604.4 | G6: =IF(D6+Z6<0.000001,0,IF(E6<=1,D6+Y6+Z6,MIN(D6+Y6+Z6,F6))) -> 100604.4 | H6: =MIN(G6,Y6+Z6) -> 32375 | I6: =G6-H6 -> 68229.402 | J6: =SUMIFS(入力設定!$G$5:$G$24,入力設定!$F$5:$F$24,A6) -> 0 | K6: =MIN(MAX(0,D6-I6),J6) -> 0 | L6: =IF(K6>0,入力設定!$B$9,0) -> 0 | M6: =MAX(0,D6-I6-K6) -> 34931771 | N6: =IF(M6+AA6<0.000001,0,IF(AND(K6>0,入力設定!$B$8="期間短縮型",AA6<0.000001,F6>M6*C6/12),MAX(1,MIN(E6-1,IF(C6=0,ROUNDUP(M6/F6,0),ROUNDUP(-LN(1-M6*(C6/12)/F6)/LN(1+C6/12),0)))),MAX(1,E6-1))) -> 419 | O6: =SUM(G6,K6,L6) -> 100604.4 | P6: =入力設定!$B$5 -> 35000000 | Q6: =IF(OR(A6>入力設定!$B$6*12,P6+AC6<0.000001),0,IF(P6<0.000001,0,IF(AE6=1,IF(C6=0,P6/MAX(1,入力設定!$B$6*12-A6+1),P6*(C6/12)/(1-(1+C6/12)^(-MAX(1,入力設定!$B$6*12-A6+1)))),0))) -> 100604.4 | R6: =IF(P6+AC6<0.000001,0,IF(A6=入力設定!$B$6*12,P6+AB6+AC6,MIN(Q6,P6+AB6+AC6))) -> 100604.4 | S6: =MIN(R6,AB6+AC6) -> 32375 | T6: =R6-S6 -> 68229.402 | U6: =MAX(0,P6-T6) -> 34931771 | V6: =D6-I6-K6-M6 -> 0 | W6: =P6-T6-U6 -> 0 | X6: =O6-G6-K6-L6 -> 0 | Y6: =D6*C6/12 -> 32375 | Z6: =0 -> 0 | AA6: =MAX(0,Z6+Y6-H6) -> 0 | AB6: =P6*C6/12 -> 32375 | AC6: =0 -> 0 | AD6: =MAX(0,AC6+AB6-S6) -> 0 | AE6: =IF(MOD(A6-1,60)=0,1,0) -> 1 | AF6: =IF(A6>入力設定!$B$6*12,0,IF(AND(ISNUMBER(C6),C6>=0,C6<=1),0,1)) -> 0
A7: =2 -> 2 | B7: =EDATE(入力設定!$B$7,A7-1) -> 46357 | C7: =INDEX(入力設定!$C$15:$C$24,INT((A7-1)/60)+1) -> 0.0111 | D7: =M6 -> 34931771 | E7: =N6 -> 419 | F7: =IF(D7+Z7<0.000001,0,IF(D7<0.000001,F6,IF(OR(AE7=1,AND(K6>0,入力設定!$B$8="返済額軽減型",入力設定!$B$11="翌月")),IF(C7=0,D7/MAX(1,E7),D7*(C7/12)/(1-(1+C7/12)^(-MAX(1,E7)))),F6))) -> 100604.4 | G7: =IF(D7+Z7<0.000001,0,IF(E7<=1,D7+Y7+Z7,MIN(D7+Y7+Z7,F7))) -> 100604.4 | H7: =MIN(G7,Y7+Z7) -> 32311.888 | I7: =G7-H7 -> 68292.514 | J7: =SUMIFS(入力設定!$G$5:$G$24,入力設定!$F$5:$F$24,A7) -> 0 | K7: =MIN(MAX(0,D7-I7),J7) -> 0 | L7: =IF(K7>0,入力設定!$B$9,0) -> 0 | M7: =MAX(0,D7-I7-K7) -> 34863478 | N7: =IF(M7+AA7<0.000001,0,IF(AND(K7>0,入力設定!$B$8="期間短縮型",AA7<0.000001,F7>M7*C7/12),MAX(1,MIN(E7-1,IF(C7=0,ROUNDUP(M7/F7,0),ROUNDUP(-LN(1-M7*(C7/12)/F7)/LN(1+C7/12),0)))),MAX(1,E7-1))) -> 418 | O7: =SUM(G7,K7,L7) -> 100604.4 | P7: =U6 -> 34931771 | Q7: =IF(OR(A7>入力設定!$B$6*12,P7+AC7<0.000001),0,IF(P7<0.000001,Q6,IF(AE7=1,IF(C7=0,P7/MAX(1,入力設定!$B$6*12-A7+1),P7*(C7/12)/(1-(1+C7/12)^(-MAX(1,入力設定!$B$6*12-A7+1)))),Q6))) -> 100604.4 | R7: =IF(P7+AC7<0.000001,0,IF(A7=入力設定!$B$6*12,P7+AB7+AC7,MIN(Q7,P7+AB7+AC7))) -> 100604.4 | S7: =MIN(R7,AB7+AC7) -> 32311.888 | T7: =R7-S7 -> 68292.514 | U7: =MAX(0,P7-T7) -> 34863478 | V7: =D7-I7-K7-M7 -> 0 | W7: =P7-T7-U7 -> 0 | X7: =O7-G7-K7-L7 -> 0 | Y7: =D7*C7/12 -> 32311.888 | Z7: =AA6 -> 0 | AA7: =MAX(0,Z7+Y7-H7) -> 0 | AB7: =P7*C7/12 -> 32311.888 | AC7: =AD6 -> 0 | AD7: =MAX(0,AC7+AB7-S7) -> 0 | AE7: =IF(MOD(A7-1,60)=0,1,0) -> 0 | AF7: =IF(A7>入力設定!$B$6*12,0,IF(AND(ISNUMBER(C7),C7>=0,C7<=1),0,1)) -> 0
A8: =3 -> 3 | B8: =EDATE(入力設定!$B$7,A8-1) -> 46388 | C8: =INDEX(入力設定!$C$15:$C$24,INT((A8-1)/60)+1) -> 0.0111 | D8: =M7 -> 34863478 | E8: =N7 -> 418 | F8: =IF(D8+Z8<0.000001,0,IF(D8<0.000001,F7,IF(OR(AE8=1,AND(K7>0,入力設定!$B$8="返済額軽減型",入力設定!$B$11="翌月")),IF(C8=0,D8/MAX(1,E8),D8*(C8/12)/(1-(1+C8/12)^(-MAX(1,E8)))),F7))) -> 100604.4 | G8: =IF(D8+Z8<0.000001,0,IF(E8<=1,D8+Y8+Z8,MIN(D8+Y8+Z8,F8))) -> 100604.4 | H8: =MIN(G8,Y8+Z8) -> 32248.717 | I8: =G8-H8 -> 68355.684 | J8: =SUMIFS(入力設定!$G$5:$G$24,入力設定!$F$5:$F$24,A8) -> 0 | K8: =MIN(MAX(0,D8-I8),J8) -> 0 | L8: =IF(K8>0,入力設定!$B$9,0) -> 0 | M8: =MAX(0,D8-I8-K8) -> 34795122 | N8: =IF(M8+AA8<0.000001,0,IF(AND(K8>0,入力設定!$B$8="期間短縮型",AA8<0.000001,F8>M8*C8/12),MAX(1,MIN(E8-1,IF(C8=0,ROUNDUP(M8/F8,0),ROUNDUP(-LN(1-M8*(C8/12)/F8)/LN(1+C8/12),0)))),MAX(1,E8-1))) -> 417 | O8: =SUM(G8,K8,L8) -> 100604.4 | P8: =U7 -> 34863478 | Q8: =IF(OR(A8>入力設定!$B$6*12,P8+AC8<0.000001),0,IF(P8<0.000001,Q7,IF(AE8=1,IF(C8=0,P8/MAX(1,入力設定!$B$6*12-A8+1),P8*(C8/12)/(1-(1+C8/12)^(-MAX(1,入力設定!$B$6*12-A8+1)))),Q7))) -> 100604.4 | R8: =IF(P8+AC8<0.000001,0,IF(A8=入力設定!$B$6*12,P8+AB8+AC8,MIN(Q8,P8+AB8+AC8))) -> 100604.4 | S8: =MIN(R8,AB8+AC8) -> 32248.717 | T8: =R8-S8 -> 68355.684 | U8: =MAX(0,P8-T8) -> 34795122 | V8: =D8-I8-K8-M8 -> 0 | W8: =P8-T8-U8 -> 0 | X8: =O8-G8-K8-L8 -> 0 | Y8: =D8*C8/12 -> 32248.717 | Z8: =AA7 -> 0 | AA8: =MAX(0,Z8+Y8-H8) -> 0 | AB8: =P8*C8/12 -> 32248.717 | AC8: =AD7 -> 0 | AD8: =MAX(0,AC8+AB8-S8) -> 0 | AE8: =IF(MOD(A8-1,60)=0,1,0) -> 0 | AF8: =IF(A8>入力設定!$B$6*12,0,IF(AND(ISNUMBER(C8),C8>=0,C8<=1),0,1)) -> 0
A9: =4 -> 4 | B9: =EDATE(入力設定!$B$7,A9-1) -> 46419 | C9: =INDEX(入力設定!$C$15:$C$24,INT((A9-1)/60)+1) -> 0.0111 | D9: =M8 -> 34795122 | E9: =N8 -> 417 | F9: =IF(D9+Z9<0.000001,0,IF(D9<0.000001,F8,IF(OR(AE9=1,AND(K8>0,入力設定!$B$8="返済額軽減型",入力設定!$B$11="翌月")),IF(C9=0,D9/MAX(1,E9),D9*(C9/12)/(1-(1+C9/12)^(-MAX(1,E9)))),F8))) -> 100604.4 | G9: =IF(D9+Z9<0.000001,0,IF(E9<=1,D9+Y9+Z9,MIN(D9+Y9+Z9,F9))) -> 100604.4 | H9: =MIN(G9,Y9+Z9) -> 32185.488 | I9: =G9-H9 -> 68418.913 | J9: =SUMIFS(入力設定!$G$5:$G$24,入力設定!$F$5:$F$24,A9) -> 0 | K9: =MIN(MAX(0,D9-I9),J9) -> 0 | L9: =IF(K9>0,入力設定!$B$9,0) -> 0 | M9: =MAX(0,D9-I9-K9) -> 34726703 | N9: =IF(M9+AA9<0.000001,0,IF(AND(K9>0,入力設定!$B$8="期間短縮型",AA9<0.000001,F9>M9*C9/12),MAX(1,MIN(E9-1,IF(C9=0,ROUNDUP(M9/F9,0),ROUNDUP(-LN(1-M9*(C9/12)/F9)/LN(1+C9/12),0)))),MAX(1,E9-1))) -> 416 | O9: =SUM(G9,K9,L9) -> 100604.4 | P9: =U8 -> 34795122 | Q9: =IF(OR(A9>入力設定!$B$6*12,P9+AC9<0.000001),0,IF(P9<0.000001,Q8,IF(AE9=1,IF(C9=0,P9/MAX(1,入力設定!$B$6*12-A9+1),P9*(C9/12)/(1-(1+C9/12)^(-MAX(1,入力設定!$B$6*12-A9+1)))),Q8))) -> 100604.4 | R9: =IF(P9+AC9<0.000001,0,IF(A9=入力設定!$B$6*12,P9+AB9+AC9,MIN(Q9,P9+AB9+AC9))) -> 100604.4 | S9: =MIN(R9,AB9+AC9) -> 32185.488 | T9: =R9-S9 -> 68418.913 | U9: =MAX(0,P9-T9) -> 34726703 | V9: =D9-I9-K9-M9 -> 0 | W9: =P9-T9-U9 -> 0 | X9: =O9-G9-K9-L9 -> 0 | Y9: =D9*C9/12 -> 32185.488 | Z9: =AA8 -> 0 | AA9: =MAX(0,Z9+Y9-H9) -> 0 | AB9: =P9*C9/12 -> 32185.488 | AC9: =AD8 -> 0 | AD9: =MAX(0,AC9+AB9-S9) -> 0 | AE9: =IF(MOD(A9-1,60)=0,1,0) -> 0 | AF9: =IF(A9>入力設定!$B$6*12,0,IF(AND(ISNUMBER(C9),C9>=0,C9<=1),0,1)) -> 0
A10: =5 -> 5 | B10: =EDATE(入力設定!$B$7,A10-1) -> 46447 | C10: =INDEX(入力設定!$C$15:$C$24,INT((A10-1)/60)+1) -> 0.0111 | D10: =M9 -> 34726703 | E10: =N9 -> 416 | F10: =IF(D10+Z10<0.000001,0,IF(D10<0.000001,F9,IF(OR(AE10=1,AND(K9>0,入力設定!$B$8="返済額軽減型",入力設定!$B$11="翌月")),IF(C10=0,D10/MAX(1,E10),D10*(C10/12)/(1-(1+C10/12)^(-MAX(1,E10)))),F9))) -> 100604.4 | G10: =IF(D10+Z10<0.000001,0,IF(E10<=1,D10+Y10+Z10,MIN(D10+Y10+Z10,F10))) -> 100604.4 | H10: =MIN(G10,Y10+Z10) -> 32122.201 | I10: =G10-H10 -> 68482.201 | J10: =SUMIFS(入力設定!$G$5:$G$24,入力設定!$F$5:$F$24,A10) -> 0 | K10: =MIN(MAX(0,D10-I10),J10) -> 0 | L10: =IF(K10>0,入力設定!$B$9,0) -> 0 | M10: =MAX(0,D10-I10-K10) -> 34658221 | N10: =IF(M10+AA10<0.000001,0,IF(AND(K10>0,入力設定!$B$8="期間短縮型",AA10<0.000001,F10>M10*C10/12),MAX(1,MIN(E10-1,IF(C10=0,ROUNDUP(M10/F10,0),ROUNDUP(-LN(1-M10*(C10/12)/F10)/LN(1+C10/12),0)))),MAX(1,E10-1))) -> 415 | O10: =SUM(G10,K10,L10) -> 100604.4 | P10: =U9 -> 34726703 | Q10: =IF(OR(A10>入力設定!$B$6*12,P10+AC10<0.000001),0,IF(P10<0.000001,Q9,IF(AE10=1,IF(C10=0,P10/MAX(1,入力設定!$B$6*12-A10+1),P10*(C10/12)/(1-(1+C10/12)^(-MAX(1,入力設定!$B$6*12-A10+1)))),Q9))) -> 100604.4 | R10: =IF(P10+AC10<0.000001,0,IF(A10=入力設定!$B$6*12,P10+AB10+AC10,MIN(Q10,P10+AB10+AC10))) -> 100604.4 | S10: =MIN(R10,AB10+AC10) -> 32122.201 | T10: =R10-S10 -> 68482.201 | U10: =MAX(0,P10-T10) -> 34658221 | V10: =D10-I10-K10-M10 -> 0 | W10: =P10-T10-U10 -> 0 | X10: =O10-G10-K10-L10 -> 0 | Y10: =D10*C10/12 -> 32122.201 | Z10: =AA9 -> 0 | AA10: =MAX(0,Z10+Y10-H10) -> 0 | AB10: =P10*C10/12 -> 32122.201 | AC10: =AD9 -> 0 | AD10: =MAX(0,AC10+AB10-S10) -> 0 | AE10: =IF(MOD(A10-1,60)=0,1,0) -> 0 | AF10: =IF(A10>入力設定!$B$6*12,0,IF(AND(ISNUMBER(C10),C10>=0,C10<=1),0,1)) -> 0
A11: =6 -> 6 | B11: =EDATE(入力設定!$B$7,A11-1) -> 46478 | C11: =INDEX(入力設定!$C$15:$C$24,INT((A11-1)/60)+1) -> 0.0111 | D11: =M10 -> 34658221 | E11: =N10 -> 415 | F11: =IF(D11+Z11<0.000001,0,IF(D11<0.000001,F10,IF(OR(AE11=1,AND(K10>0,入力設定!$B$8="返済額軽減型",入力設定!$B$11="翌月")),IF(C11=0,D11/MAX(1,E11),D11*(C11/12)/(1-(1+C11/12)^(-MAX(1,E11)))),F10))) -> 100604.4 | G11: =IF(D11+Z11<0.000001,0,IF(E11<=1,D11+Y11+Z11,MIN(D11+Y11+Z11,F11))) -> 100604.4 | H11: =MIN(G11,Y11+Z11) -> 32058.855 | I11: =G11-H11 -> 68545.547 | J11: =SUMIFS(入力設定!$G$5:$G$24,入力設定!$F$5:$F$24,A11) -> 0 | K11: =MIN(MAX(0,D11-I11),J11) -> 0 | L11: =IF(K11>0,入力設定!$B$9,0) -> 0 | M11: =MAX(0,D11-I11-K11) -> 34589676 | N11: =IF(M11+AA11<0.000001,0,IF(AND(K11>0,入力設定!$B$8="期間短縮型",AA11<0.000001,F11>M11*C11/12),MAX(1,MIN(E11-1,IF(C11=0,ROUNDUP(M11/F11,0),ROUNDUP(-LN(1-M11*(C11/12)/F11)/LN(1+C11/12),0)))),MAX(1,E11-1))) -> 414 | O11: =SUM(G11,K11,L11) -> 100604.4 | P11: =U10 -> 34658221 | Q11: =IF(OR(A11>入力設定!$B$6*12,P11+AC11<0.000001),0,IF(P11<0.000001,Q10,IF(AE11=1,IF(C11=0,P11/MAX(1,入力設定!$B$6*12-A11+1),P11*(C11/12)/(1-(1+C11/12)^(-MAX(1,入力設定!$B$6*12-A11+1)))),Q10))) -> 100604.4 | R11: =IF(P11+AC11<0.000001,0,IF(A11=入力設定!$B$6*12,P11+AB11+AC11,MIN(Q11,P11+AB11+AC11))) -> 100604.4 | S11: =MIN(R11,AB11+AC11) -> 32058.855 | T11: =R11-S11 -> 68545.547 | U11: =MAX(0,P11-T11) -> 34589676 | V11: =D11-I11-K11-M11 -> 0 | W11: =P11-T11-U11 -> 0 | X11: =O11-G11-K11-L11 -> 0 | Y11: =D11*C11/12 -> 32058.855 | Z11: =AA10 -> 0 | AA11: =MAX(0,Z11+Y11-H11) -> 0 | AB11: =P11*C11/12 -> 32058.855 | AC11: =AD10 -> 0 | AD11: =MAX(0,AC11+AB11-S11) -> 0 | AE11: =IF(MOD(A11-1,60)=0,1,0) -> 0 | AF11: =IF(A11>入力設定!$B$6*12,0,IF(AND(ISNUMBER(C11),C11>=0,C11<=1),0,1)) -> 0
A12: =7 -> 7 | B12: =EDATE(入力設定!$B$7,A12-1) -> 46508 | C12: =INDEX(入力設定!$C$15:$C$24,INT((A12-1)/60)+1) -> 0.0111 | D12: =M11 -> 34589676 | E12: =N11 -> 414 | F12: =IF(D12+Z12<0.000001,0,IF(D12<0.000001,F11,IF(OR(AE12=1,AND(K11>0,入力設定!$B$8="返済額軽減型",入力設定!$B$11="翌月")),IF(C12=0,D12/MAX(1,E12),D12*(C12/12)/(1-(1+C12/12)^(-MAX(1,E12)))),F11))) -> 100604.4 | G12: =IF(D12+Z12<0.000001,0,IF(E12<=1,D12+Y12+Z12,MIN(D12+Y12+Z12,F12))) -> 100604.4 | H12: =MIN(G12,Y12+Z12) -> 31995.45 | I12: =G12-H12 -> 68608.952 | J12: =SUMIFS(入力設定!$G$5:$G$24,入力設定!$F$5:$F$24,A12) -> 0 | K12: =MIN(MAX(0,D12-I12),J12) -> 0 | L12: =IF(K12>0,入力設定!$B$9,0) -> 0 | M12: =MAX(0,D12-I12-K12) -> 34521067 | N12: =IF(M12+AA12<0.000001,0,IF(AND(K12>0,入力設定!$B$8="期間短縮型",AA12<0.000001,F12>M12*C12/12),MAX(1,MIN(E12-1,IF(C12=0,ROUNDUP(M12/F12,0),ROUNDUP(-LN(1-M12*(C12/12)/F12)/LN(1+C12/12),0)))),MAX(1,E12-1))) -> 413 | O12: =SUM(G12,K12,L12) -> 100604.4 | P12: =U11 -> 34589676 | Q12: =IF(OR(A12>入力設定!$B$6*12,P12+AC12<0.000001),0,IF(P12<0.000001,Q11,IF(AE12=1,IF(C12=0,P12/MAX(1,入力設定!$B$6*12-A12+1),P12*(C12/12)/(1-(1+C12/12)^(-MAX(1,入力設定!$B$6*12-A12+1)))),Q11))) -> 100604.4 | R12: =IF(P12+AC12<0.000001,0,IF(A12=入力設定!$B$6*12,P12+AB12+AC12,MIN(Q12,P12+AB12+AC12))) -> 100604.4 | S12: =MIN(R12,AB12+AC12) -> 31995.45 | T12: =R12-S12 -> 68608.952 | U12: =MAX(0,P12-T12) -> 34521067 | V12: =D12-I12-K12-M12 -> 0 | W12: =P12-T12-U12 -> 0 | X12: =O12-G12-K12-L12 -> 0 | Y12: =D12*C12/12 -> 31995.45 | Z12: =AA11 -> 0 | AA12: =MAX(0,Z12+Y12-H12) -> 0 | AB12: =P12*C12/12 -> 31995.45 | AC12: =AD11 -> 0 | AD12: =MAX(0,AC12+AB12-S12) -> 0 | AE12: =IF(MOD(A12-1,60)=0,1,0) -> 0 | AF12: =IF(A12>入力設定!$B$6*12,0,IF(AND(ISNUMBER(C12),C12>=0,C12<=1),0,1)) -> 0
A13: =8 -> 8 | B13: =EDATE(入力設定!$B$7,A13-1) -> 46539 | C13: =INDEX(入力設定!$C$15:$C$24,INT((A13-1)/60)+1) -> 0.0111 | D13: =M12 -> 34521067 | E13: =N12 -> 413 | F13: =IF(D13+Z13<0.000001,0,IF(D13<0.000001,F12,IF(OR(AE13=1,AND(K12>0,入力設定!$B$8="返済額軽減型",入力設定!$B$11="翌月")),IF(C13=0,D13/MAX(1,E13),D13*(C13/12)/(1-(1+C13/12)^(-MAX(1,E13)))),F12))) -> 100604.4 | G13: =IF(D13+Z13<0.000001,0,IF(E13<=1,D13+Y13+Z13,MIN(D13+Y13+Z13,F13))) -> 100604.4 | H13: =MIN(G13,Y13+Z13) -> 31931.987 | I13: =G13-H13 -> 68672.415 | J13: =SUMIFS(入力設定!$G$5:$G$24,入力設定!$F$5:$F$24,A13) -> 0 | K13: =MIN(MAX(0,D13-I13),J13) -> 0 | L13: =IF(K13>0,入力設定!$B$9,0) -> 0 | M13: =MAX(0,D13-I13-K13) -> 34452394 | N13: =IF(M13+AA13<0.000001,0,IF(AND(K13>0,入力設定!$B$8="期間短縮型",AA13<0.000001,F13>M13*C13/12),MAX(1,MIN(E13-1,IF(C13=0,ROUNDUP(M13/F13,0),ROUNDUP(-LN(1-M13*(C13/12)/F13)/LN(1+C13/12),0)))),MAX(1,E13-1))) -> 412 | O13: =SUM(G13,K13,L13) -> 100604.4 | P13: =U12 -> 34521067 | Q13: =IF(OR(A13>入力設定!$B$6*12,P13+AC13<0.000001),0,IF(P13<0.000001,Q12,IF(AE13=1,IF(C13=0,P13/MAX(1,入力設定!$B$6*12-A13+1),P13*(C13/12)/(1-(1+C13/12)^(-MAX(1,入力設定!$B$6*12-A13+1)))),Q12))) -> 100604.4 | R13: =IF(P13+AC13<0.000001,0,IF(A13=入力設定!$B$6*12,P13+AB13+AC13,MIN(Q13,P13+AB13+AC13))) -> 100604.4 | S13: =MIN(R13,AB13+AC13) -> 31931.987 | T13: =R13-S13 -> 68672.415 | U13: =MAX(0,P13-T13) -> 34452394 | V13: =D13-I13-K13-M13 -> 0 | W13: =P13-T13-U13 -> 0 | X13: =O13-G13-K13-L13 -> 0 | Y13: =D13*C13/12 -> 31931.987 | Z13: =AA12 -> 0 | AA13: =MAX(0,Z13+Y13-H13) -> 0 | AB13: =P13*C13/12 -> 31931.987 | AC13: =AD12 -> 0 | AD13: =MAX(0,AC13+AB13-S13) -> 0 | AE13: =IF(MOD(A13-1,60)=0,1,0) -> 0 | AF13: =IF(A13>入力設定!$B$6*12,0,IF(AND(ISNUMBER(C13),C13>=0,C13<=1),0,1)) -> 0
A14: =9 -> 9 | B14: =EDATE(入力設定!$B$7,A14-1) -> 46569 | C14: =INDEX(入力設定!$C$15:$C$24,INT((A14-1)/60)+1) -> 0.0111 | D14: =M13 -> 34452394 | E14: =N13 -> 412 | F14: =IF(D14+Z14<0.000001,0,IF(D14<0.000001,F13,IF(OR(AE14=1,AND(K13>0,入力設定!$B$8="返済額軽減型",入力設定!$B$11="翌月")),IF(C14=0,D14/MAX(1,E14),D14*(C14/12)/(1-(1+C14/12)^(-MAX(1,E14)))),F13))) -> 100604.4 | G14: =IF(D14+Z14<0.000001,0,IF(E14<=1,D14+Y14+Z14,MIN(D14+Y14+Z14,F14))) -> 100604.4 | H14: =MIN(G14,Y14+Z14) -> 31868.465 | I14: =G14-H14 -> 68735.937 | J14: =SUMIFS(入力設定!$G$5:$G$24,入力設定!$F$5:$F$24,A14) -> 0 | K14: =MIN(MAX(0,D14-I14),J14) -> 0 | L14: =IF(K14>0,入力設定!$B$9,0) -> 0 | M14: =MAX(0,D14-I14-K14) -> 34383658 | N14: =IF(M14+AA14<0.000001,0,IF(AND(K14>0,入力設定!$B$8="期間短縮型",AA14<0.000001,F14>M14*C14/12),MAX(1,MIN(E14-1,IF(C14=0,ROUNDUP(M14/F14,0),ROUNDUP(-LN(1-M14*(C14/12)/F14)/LN(1+C14/12),0)))),MAX(1,E14-1))) -> 411 | O14: =SUM(G14,K14,L14) -> 100604.4 | P14: =U13 -> 34452394 | Q14: =IF(OR(A14>入力設定!$B$6*12,P14+AC14<0.000001),0,IF(P14<0.000001,Q13,IF(AE14=1,IF(C14=0,P14/MAX(1,入力設定!$B$6*12-A14+1),P14*(C14/12)/(1-(1+C14/12)^(-MAX(1,入力設定!$B$6*12-A14+1)))),Q13))) -> 100604.4 | R14: =IF(P14+AC14<0.000001,0,IF(A14=入力設定!$B$6*12,P14+AB14+AC14,MIN(Q14,P14+AB14+AC14))) -> 100604.4 | S14: =MIN(R14,AB14+AC14) -> 31868.465 | T14: =R14-S14 -> 68735.937 | U14: =MAX(0,P14-T14) -> 34383658 | V14: =D14-I14-K14-M14 -> 0 | W14: =P14-T14-U14 -> 0 | X14: =O14-G14-K14-L14 -> 0 | Y14: =D14*C14/12 -> 31868.465 | Z14: =AA13 -> 0 | AA14: =MAX(0,Z14+Y14-H14) -> 0 | AB14: =P14*C14/12 -> 31868.465 | AC14: =AD13 -> 0 | AD14: =MAX(0,AC14+AB14-S14) -> 0 | AE14: =IF(MOD(A14-1,60)=0,1,0) -> 0 | AF14: =IF(A14>入力設定!$B$6*12,0,IF(AND(ISNUMBER(C14),C14>=0,C14<=1),0,1)) -> 0
A15: =10 -> 10 | B15: =EDATE(入力設定!$B$7,A15-1) -> 46600 | C15: =INDEX(入力設定!$C$15:$C$24,INT((A15-1)/60)+1) -> 0.0111 | D15: =M14 -> 34383658 | E15: =N14 -> 411 | F15: =IF(D15+Z15<0.000001,0,IF(D15<0.000001,F14,IF(OR(AE15=1,AND(K14>0,入力設定!$B$8="返済額軽減型",入力設定!$B$11="翌月")),IF(C15=0,D15/MAX(1,E15),D15*(C15/12)/(1-(1+C15/12)^(-MAX(1,E15)))),F14))) -> 100604.4 | G15: =IF(D15+Z15<0.000001,0,IF(E15<=1,D15+Y15+Z15,MIN(D15+Y15+Z15,F15))) -> 100604.4 | H15: =MIN(G15,Y15+Z15) -> 31804.884 | I15: =G15-H15 -> 68799.518 | J15: =SUMIFS(入力設定!$G$5:$G$24,入力設定!$F$5:$F$24,A15) -> 0 | K15: =MIN(MAX(0,D15-I15),J15) -> 0 | L15: =IF(K15>0,入力設定!$B$9,0) -> 0 | M15: =MAX(0,D15-I15-K15) -> 34314859 | N15: =IF(M15+AA15<0.000001,0,IF(AND(K15>0,入力設定!$B$8="期間短縮型",AA15<0.000001,F15>M15*C15/12),MAX(1,MIN(E15-1,IF(C15=0,ROUNDUP(M15/F15,0),ROUNDUP(-LN(1-M15*(C15/12)/F15)/LN(1+C15/12),0)))),MAX(1,E15-1))) -> 410 | O15: =SUM(G15,K15,L15) -> 100604.4 | P15: =U14 -> 34383658 | Q15: =IF(OR(A15>入力設定!$B$6*12,P15+AC15<0.000001),0,IF(P15<0.000001,Q14,IF(AE15=1,IF(C15=0,P15/MAX(1,入力設定!$B$6*12-A15+1),P15*(C15/12)/(1-(1+C15/12)^(-MAX(1,入力設定!$B$6*12-A15+1)))),Q14))) -> 100604.4 | R15: =IF(P15+AC15<0.000001,0,IF(A15=入力設定!$B$6*12,P15+AB15+AC15,MIN(Q15,P15+AB15+AC15))) -> 100604.4 | S15: =MIN(R15,AB15+AC15) -> 31804.884 | T15: =R15-S15 -> 68799.518 | U15: =MAX(0,P15-T15) -> 34314859 | V15: =D15-I15-K15-M15 -> 0 | W15: =P15-T15-U15 -> 0 | X15: =O15-G15-K15-L15 -> 0 | Y15: =D15*C15/12 -> 31804.884 | Z15: =AA14 -> 0 | AA15: =MAX(0,Z15+Y15-H15) -> 0 | AB15: =P15*C15/12 -> 31804.884 | AC15: =AD14 -> 0 | AD15: =MAX(0,AC15+AB15-S15) -> 0 | AE15: =IF(MOD(A15-1,60)=0,1,0) -> 0 | AF15: =IF(A15>入力設定!$B$6*12,0,IF(AND(ISNUMBER(C15),C15>=0,C15<=1),0,1)) -> 0
A16: =11 -> 11 | B16: =EDATE(入力設定!$B$7,A16-1) -> 46631 | C16: =INDEX(入力設定!$C$15:$C$24,INT((A16-1)/60)+1) -> 0.0111 | D16: =M15 -> 34314859 | E16: =N15 -> 410 | F16: =IF(D16+Z16<0.000001,0,IF(D16<0.000001,F15,IF(OR(AE16=1,AND(K15>0,入力設定!$B$8="返済額軽減型",入力設定!$B$11="翌月")),IF(C16=0,D16/MAX(1,E16),D16*(C16/12)/(1-(1+C16/12)^(-MAX(1,E16)))),F15))) -> 100604.4 | G16: =IF(D16+Z16<0.000001,0,IF(E16<=1,D16+Y16+Z16,MIN(D16+Y16+Z16,F16))) -> 100604.4 | H16: =MIN(G16,Y16+Z16) -> 31741.244 | I16: =G16-H16 -> 68863.157 | J16: =SUMIFS(入力設定!$G$5:$G$24,入力設定!$F$5:$F$24,A16) -> 0 | K16: =MIN(MAX(0,D16-I16),J16) -> 0 | L16: =IF(K16>0,入力設定!$B$9,0) -> 0 | M16: =MAX(0,D16-I16-K16) -> 34245996 | N16: =IF(M16+AA16<0.000001,0,IF(AND(K16>0,入力設定!$B$8="期間短縮型",AA16<0.000001,F16>M16*C16/12),MAX(1,MIN(E16-1,IF(C16=0,ROUNDUP(M16/F16,0),ROUNDUP(-LN(1-M16*(C16/12)/F16)/LN(1+C16/12),0)))),MAX(1,E16-1))) -> 409 | O16: =SUM(G16,K16,L16) -> 100604.4 | P16: =U15 -> 34314859 | Q16: =IF(OR(A16>入力設定!$B$6*12,P16+AC16<0.000001),0,IF(P16<0.000001,Q15,IF(AE16=1,IF(C16=0,P16/MAX(1,入力設定!$B$6*12-A16+1),P16*(C16/12)/(1-(1+C16/12)^(-MAX(1,入力設定!$B$6*12-A16+1)))),Q15))) -> 100604.4 | R16: =IF(P16+AC16<0.000001,0,IF(A16=入力設定!$B$6*12,P16+AB16+AC16,MIN(Q16,P16+AB16+AC16))) -> 100604.4 | S16: =MIN(R16,AB16+AC16) -> 31741.244 | T16: =R16-S16 -> 68863.157 | U16: =MAX(0,P16-T16) -> 34245996 | V16: =D16-I16-K16-M16 -> 0 | W16: =P16-T16-U16 -> 0 | X16: =O16-G16-K16-L16 -> 0 | Y16: =D16*C16/12 -> 31741.244 | Z16: =AA15 -> 0 | AA16: =MAX(0,Z16+Y16-H16) -> 0 | AB16: =P16*C16/12 -> 31741.244 | AC16: =AD15 -> 0 | AD16: =MAX(0,AC16+AB16-S16) -> 0 | AE16: =IF(MOD(A16-1,60)=0,1,0) -> 0 | AF16: =IF(A16>入力設定!$B$6*12,0,IF(AND(ISNUMBER(C16),C16>=0,C16<=1),0,1)) -> 0
A17: =12 -> 12 | B17: =EDATE(入力設定!$B$7,A17-1) -> 46661 | C17: =INDEX(入力設定!$C$15:$C$24,INT((A17-1)/60)+1) -> 0.0111 | D17: =M16 -> 34245996 | E17: =N16 -> 409 | F17: =IF(D17+Z17<0.000001,0,IF(D17<0.000001,F16,IF(OR(AE17=1,AND(K16>0,入力設定!$B$8="返済額軽減型",入力設定!$B$11="翌月")),IF(C17=0,D17/MAX(1,E17),D17*(C17/12)/(1-(1+C17/12)^(-MAX(1,E17)))),F16))) -> 100604.4 | G17: =IF(D17+Z17<0.000001,0,IF(E17<=1,D17+Y17+Z17,MIN(D17+Y17+Z17,F17))) -> 100604.4 | H17: =MIN(G17,Y17+Z17) -> 31677.546 | I17: =G17-H17 -> 68926.856 | J17: =SUMIFS(入力設定!$G$5:$G$24,入力設定!$F$5:$F$24,A17) -> 0 | K17: =MIN(MAX(0,D17-I17),J17) -> 0 | L17: =IF(K17>0,入力設定!$B$9,0) -> 0 | M17: =MAX(0,D17-I17-K17) -> 34177069 | N17: =IF(M17+AA17<0.000001,0,IF(AND(K17>0,入力設定!$B$8="期間短縮型",AA17<0.000001,F17>M17*C17/12),MAX(1,MIN(E17-1,IF(C17=0,ROUNDUP(M17/F17,0),ROUNDUP(-LN(1-M17*(C17/12)/F17)/LN(1+C17/12),0)))),MAX(1,E17-1))) -> 408 | O17: =SUM(G17,K17,L17) -> 100604.4 | P17: =U16 -> 34245996 | Q17: =IF(OR(A17>入力設定!$B$6*12,P17+AC17<0.000001),0,IF(P17<0.000001,Q16,IF(AE17=1,IF(C17=0,P17/MAX(1,入力設定!$B$6*12-A17+1),P17*(C17/12)/(1-(1+C17/12)^(-MAX(1,入力設定!$B$6*12-A17+1)))),Q16))) -> 100604.4 | R17: =IF(P17+AC17<0.000001,0,IF(A17=入力設定!$B$6*12,P17+AB17+AC17,MIN(Q17,P17+AB17+AC17))) -> 100604.4 | S17: =MIN(R17,AB17+AC17) -> 31677.546 | T17: =R17-S17 -> 68926.856 | U17: =MAX(0,P17-T17) -> 34177069 | V17: =D17-I17-K17-M17 -> 0 | W17: =P17-T17-U17 -> 0 | X17: =O17-G17-K17-L17 -> 0 | Y17: =D17*C17/12 -> 31677.546 | Z17: =AA16 -> 0 | AA17: =MAX(0,Z17+Y17-H17) -> 0 | AB17: =P17*C17/12 -> 31677.546 | AC17: =AD16 -> 0 | AD17: =MAX(0,AC17+AB17-S17) -> 0 | AE17: =IF(MOD(A17-1,60)=0,1,0) -> 0 | AF17: =IF(A17>入力設定!$B$6*12,0,IF(AND(ISNUMBER(C17),C17>=0,C17<=1),0,1)) -> 0
A18: =13 -> 13 | B18: =EDATE(入力設定!$B$7,A18-1) -> 46692 | C18: =INDEX(入力設定!$C$15:$C$24,INT((A18-1)/60)+1) -> 0.0111 | D18: =M17 -> 34177069 | E18: =N17 -> 408 | F18: =IF(D18+Z18<0.000001,0,IF(D18<0.000001,F17,IF(OR(AE18=1,AND(K17>0,入力設定!$B$8="返済額軽減型",入力設定!$B$11="翌月")),IF(C18=0,D18/MAX(1,E18),D18*(C18/12)/(1-(1+C18/12)^(-MAX(1,E18)))),F17))) -> 100604.4 | G18: =IF(D18+Z18<0.000001,0,IF(E18<=1,D18+Y18+Z18,MIN(D18+Y18+Z18,F18))) -> 100604.4 | H18: =MIN(G18,Y18+Z18) -> 31613.789 | I18: =G18-H18 -> 68990.613 | J18: =SUMIFS(入力設定!$G$5:$G$24,入力設定!$F$5:$F$24,A18) -> 0 | K18: =MIN(MAX(0,D18-I18),J18) -> 0 | L18: =IF(K18>0,入力設定!$B$9,0) -> 0 | M18: =MAX(0,D18-I18-K18) -> 34108078 | N18: =IF(M18+AA18<0.000001,0,IF(AND(K18>0,入力設定!$B$8="期間短縮型",AA18<0.000001,F18>M18*C18/12),MAX(1,MIN(E18-1,IF(C18=0,ROUNDUP(M18/F18,0),ROUNDUP(-LN(1-M18*(C18/12)/F18)/LN(1+C18/12),0)))),MAX(1,E18-1))) -> 407 | O18: =SUM(G18,K18,L18) -> 100604.4 | P18: =U17 -> 34177069 | Q18: =IF(OR(A18>入力設定!$B$6*12,P18+AC18<0.000001),0,IF(P18<0.000001,Q17,IF(AE18=1,IF(C18=0,P18/MAX(1,入力設定!$B$6*12-A18+1),P18*(C18/12)/(1-(1+C18/12)^(-MAX(1,入力設定!$B$6*12-A18+1)))),Q17))) -> 100604.4 | R18: =IF(P18+AC18<0.000001,0,IF(A18=入力設定!$B$6*12,P18+AB18+AC18,MIN(Q18,P18+AB18+AC18))) -> 100604.4 | S18: =MIN(R18,AB18+AC18) -> 31613.789 | T18: =R18-S18 -> 68990.613 | U18: =MAX(0,P18-T18) -> 34108078 | V18: =D18-I18-K18-M18 -> 0 | W18: =P18-T18-U18 -> 0 | X18: =O18-G18-K18-L18 -> 0 | Y18: =D18*C18/12 -> 31613.789 | Z18: =AA17 -> 0 | AA18: =MAX(0,Z18+Y18-H18) -> 0 | AB18: =P18*C18/12 -> 31613.789 | AC18: =AD17 -> 0 | AD18: =MAX(0,AC18+AB18-S18) -> 0 | AE18: =IF(MOD(A18-1,60)=0,1,0) -> 0 | AF18: =IF(A18>入力設定!$B$6*12,0,IF(AND(ISNUMBER(C18),C18>=0,C18<=1),0,1)) -> 0
A19: =14 -> 14 | B19: =EDATE(入力設定!$B$7,A19-1) -> 46722 | C19: =INDEX(入力設定!$C$15:$C$24,INT((A19-1)/60)+1) -> 0.0111 | D19: =M18 -> 34108078 | E19: =N18 -> 407 | F19: =IF(D19+Z19<0.000001,0,IF(D19<0.000001,F18,IF(OR(AE19=1,AND(K18>0,入力設定!$B$8="返済額軽減型",入力設定!$B$11="翌月")),IF(C19=0,D19/MAX(1,E19),D19*(C19/12)/(1-(1+C19/12)^(-MAX(1,E19)))),F18))) -> 100604.4 | G19: =IF(D19+Z19<0.000001,0,IF(E19<=1,D19+Y19+Z19,MIN(D19+Y19+Z19,F19))) -> 100604.4 | H19: =MIN(G19,Y19+Z19) -> 31549.972 | I19: =G19-H19 -> 69054.429 | J19: =SUMIFS(入力設定!$G$5:$G$24,入力設定!$F$5:$F$24,A19) -> 0 | K19: =MIN(MAX(0,D19-I19),J19) -> 0 | L19: =IF(K19>0,入力設定!$B$9,0) -> 0 | M19: =MAX(0,D19-I19-K19) -> 34039024 | N19: =IF(M19+AA19<0.000001,0,IF(AND(K19>0,入力設定!$B$8="期間短縮型",AA19<0.000001,F19>M19*C19/12),MAX(1,MIN(E19-1,IF(C19=0,ROUNDUP(M19/F19,0),ROUNDUP(-LN(1-M19*(C19/12)/F19)/LN(1+C19/12),0)))),MAX(1,E19-1))) -> 406 | O19: =SUM(G19,K19,L19) -> 100604.4 | P19: =U18 -> 34108078 | Q19: =IF(OR(A19>入力設定!$B$6*12,P19+AC19<0.000001),0,IF(P19<0.000001,Q18,IF(AE19=1,IF(C19=0,P19/MAX(1,入力設定!$B$6*12-A19+1),P19*(C19/12)/(1-(1+C19/12)^(-MAX(1,入力設定!$B$6*12-A19+1)))),Q18))) -> 100604.4 | R19: =IF(P19+AC19<0.000001,0,IF(A19=入力設定!$B$6*12,P19+AB19+AC19,MIN(Q19,P19+AB19+AC19))) -> 100604.4 | S19: =MIN(R19,AB19+AC19) -> 31549.972 | T19: =R19-S19 -> 69054.429 | U19: =MAX(0,P19-T19) -> 34039024 | V19: =D19-I19-K19-M19 -> 0 | W19: =P19-T19-U19 -> 0 | X19: =O19-G19-K19-L19 -> 0 | Y19: =D19*C19/12 -> 31549.972 | Z19: =AA18 -> 0 | AA19: =MAX(0,Z19+Y19-H19) -> 0 | AB19: =P19*C19/12 -> 31549.972 | AC19: =AD18 -> 0 | AD19: =MAX(0,AC19+AB19-S19) -> 0 | AE19: =IF(MOD(A19-1,60)=0,1,0) -> 0 | AF19: =IF(A19>入力設定!$B$6*12,0,IF(AND(ISNUMBER(C19),C19>=0,C19<=1),0,1)) -> 0
A20: =15 -> 15 | B20: =EDATE(入力設定!$B$7,A20-1) -> 46753 | C20: =INDEX(入力設定!$C$15:$C$24,INT((A20-1)/60)+1) -> 0.0111 | D20: =M19 -> 34039024 | E20: =N19 -> 406 | F20: =IF(D20+Z20<0.000001,0,IF(D20<0.000001,F19,IF(OR(AE20=1,AND(K19>0,入力設定!$B$8="返済額軽減型",入力設定!$B$11="翌月")),IF(C20=0,D20/MAX(1,E20),D20*(C20/12)/(1-(1+C20/12)^(-MAX(1,E20)))),F19))) -> 100604.4 | G20: =IF(D20+Z20<0.000001,0,IF(E20<=1,D20+Y20+Z20,MIN(D20+Y20+Z20,F20))) -> 100604.4 | H20: =MIN(G20,Y20+Z20) -> 31486.097 | I20: =G20-H20 -> 69118.305 | J20: =SUMIFS(入力設定!$G$5:$G$24,入力設定!$F$5:$F$24,A20) -> 0 | K20: =MIN(MAX(0,D20-I20),J20) -> 0 | L20: =IF(K20>0,入力設定!$B$9,0) -> 0 | M20: =MAX(0,D20-I20-K20) -> 33969906 | N20: =IF(M20+AA20<0.000001,0,IF(AND(K20>0,入力設定!$B$8="期間短縮型",AA20<0.000001,F20>M20*C20/12),MAX(1,MIN(E20-1,IF(C20=0,ROUNDUP(M20/F20,0),ROUNDUP(-LN(1-M20*(C20/12)/F20)/LN(1+C20/12),0)))),MAX(1,E20-1))) -> 405 | O20: =SUM(G20,K20,L20) -> 100604.4 | P20: =U19 -> 34039024 | Q20: =IF(OR(A20>入力設定!$B$6*12,P20+AC20<0.000001),0,IF(P20<0.000001,Q19,IF(AE20=1,IF(C20=0,P20/MAX(1,入力設定!$B$6*12-A20+1),P20*(C20/12)/(1-(1+C20/12)^(-MAX(1,入力設定!$B$6*12-A20+1)))),Q19))) -> 100604.4 | R20: =IF(P20+AC20<0.000001,0,IF(A20=入力設定!$B$6*12,P20+AB20+AC20,MIN(Q20,P20+AB20+AC20))) -> 100604.4 | S20: =MIN(R20,AB20+AC20) -> 31486.097 | T20: =R20-S20 -> 69118.305 | U20: =MAX(0,P20-T20) -> 33969906 | V20: =D20-I20-K20-M20 -> 0 | W20: =P20-T20-U20 -> 0 | X20: =O20-G20-K20-L20 -> 0 | Y20: =D20*C20/12 -> 31486.097 | Z20: =AA19 -> 0 | AA20: =MAX(0,Z20+Y20-H20) -> 0 | AB20: =P20*C20/12 -> 31486.097 | AC20: =AD19 -> 0 | AD20: =MAX(0,AC20+AB20-S20) -> 0 | AE20: =IF(MOD(A20-1,60)=0,1,0) -> 0 | AF20: =IF(A20>入力設定!$B$6*12,0,IF(AND(ISNUMBER(C20),C20>=0,C20<=1),0,1)) -> 0
A21: =16 -> 16 | B21: =EDATE(入力設定!$B$7,A21-1) -> 46784 | C21: =INDEX(入力設定!$C$15:$C$24,INT((A21-1)/60)+1) -> 0.0111 | D21: =M20 -> 33969906 | E21: =N20 -> 405 | F21: =IF(D21+Z21<0.000001,0,IF(D21<0.000001,F20,IF(OR(AE21=1,AND(K20>0,入力設定!$B$8="返済額軽減型",入力設定!$B$11="翌月")),IF(C21=0,D21/MAX(1,E21),D21*(C21/12)/(1-(1+C21/12)^(-MAX(1,E21)))),F20))) -> 100604.4 | G21: =IF(D21+Z21<0.000001,0,IF(E21<=1,D21+Y21+Z21,MIN(D21+Y21+Z21,F21))) -> 100604.4 | H21: =MIN(G21,Y21+Z21) -> 31422.163 | I21: =G21-H21 -> 69182.239 | J21: =SUMIFS(入力設定!$G$5:$G$24,入力設定!$F$5:$F$24,A21) -> 0 | K21: =MIN(MAX(0,D21-I21),J21) -> 0 | L21: =IF(K21>0,入力設定!$B$9,0) -> 0 | M21: =MAX(0,D21-I21-K21) -> 33900723 | N21: =IF(M21+AA21<0.000001,0,IF(AND(K21>0,入力設定!$B$8="期間短縮型",AA21<0.000001,F21>M21*C21/12),MAX(1,MIN(E21-1,IF(C21=0,ROUNDUP(M21/F21,0),ROUNDUP(-LN(1-M21*(C21/12)/F21)/LN(1+C21/12),0)))),MAX(1,E21-1))) -> 404 | O21: =SUM(G21,K21,L21) -> 100604.4 | P21: =U20 -> 33969906 | Q21: =IF(OR(A21>入力設定!$B$6*12,P21+AC21<0.000001),0,IF(P21<0.000001,Q20,IF(AE21=1,IF(C21=0,P21/MAX(1,入力設定!$B$6*12-A21+1),P21*(C21/12)/(1-(1+C21/12)^(-MAX(1,入力設定!$B$6*12-A21+1)))),Q20))) -> 100604.4 | R21: =IF(P21+AC21<0.000001,0,IF(A21=入力設定!$B$6*12,P21+AB21+AC21,MIN(Q21,P21+AB21+AC21))) -> 100604.4 | S21: =MIN(R21,AB21+AC21) -> 31422.163 | T21: =R21-S21 -> 69182.239 | U21: =MAX(0,P21-T21) -> 33900723 | V21: =D21-I21-K21-M21 -> 0 | W21: =P21-T21-U21 -> 0 | X21: =O21-G21-K21-L21 -> 0 | Y21: =D21*C21/12 -> 31422.163 | Z21: =AA20 -> 0 | AA21: =MAX(0,Z21+Y21-H21) -> 0 | AB21: =P21*C21/12 -> 31422.163 | AC21: =AD20 -> 0 | AD21: =MAX(0,AC21+AB21-S21) -> 0 | AE21: =IF(MOD(A21-1,60)=0,1,0) -> 0 | AF21: =IF(A21>入力設定!$B$6*12,0,IF(AND(ISNUMBER(C21),C21>=0,C21<=1),0,1)) -> 0
A22: =17 -> 17 | B22: =EDATE(入力設定!$B$7,A22-1) -> 46813 | C22: =INDEX(入力設定!$C$15:$C$24,INT((A22-1)/60)+1) -> 0.0111 | D22: =M21 -> 33900723 | E22: =N21 -> 404 | F22: =IF(D22+Z22<0.000001,0,IF(D22<0.000001,F21,IF(OR(AE22=1,AND(K21>0,入力設定!$B$8="返済額軽減型",入力設定!$B$11="翌月")),IF(C22=0,D22/MAX(1,E22),D22*(C22/12)/(1-(1+C22/12)^(-MAX(1,E22)))),F21))) -> 100604.4 | G22: =IF(D22+Z22<0.000001,0,IF(E22<=1,D22+Y22+Z22,MIN(D22+Y22+Z22,F22))) -> 100604.4 | H22: =MIN(G22,Y22+Z22) -> 31358.169 | I22: =G22-H22 -> 69246.233 | J22: =SUMIFS(入力設定!$G$5:$G$24,入力設定!$F$5:$F$24,A22) -> 0 | K22: =MIN(MAX(0,D22-I22),J22) -> 0 | L22: =IF(K22>0,入力設定!$B$9,0) -> 0 | M22: =MAX(0,D22-I22-K22) -> 33831477 | N22: =IF(M22+AA22<0.000001,0,IF(AND(K22>0,入力設定!$B$8="期間短縮型",AA22<0.000001,F22>M22*C22/12),MAX(1,MIN(E22-1,IF(C22=0,ROUNDUP(M22/F22,0),ROUNDUP(-LN(1-M22*(C22/12)/F22)/LN(1+C22/12),0)))),MAX(1,E22-1))) -> 403 | O22: =SUM(G22,K22,L22) -> 100604.4 | P22: =U21 -> 33900723 | Q22: =IF(OR(A22>入力設定!$B$6*12,P22+AC22<0.000001),0,IF(P22<0.000001,Q21,IF(AE22=1,IF(C22=0,P22/MAX(1,入力設定!$B$6*12-A22+1),P22*(C22/12)/(1-(1+C22/12)^(-MAX(1,入力設定!$B$6*12-A22+1)))),Q21))) -> 100604.4 | R22: =IF(P22+AC22<0.000001,0,IF(A22=入力設定!$B$6*12,P22+AB22+AC22,MIN(Q22,P22+AB22+AC22))) -> 100604.4 | S22: =MIN(R22,AB22+AC22) -> 31358.169 | T22: =R22-S22 -> 69246.233 | U22: =MAX(0,P22-T22) -> 33831477 | V22: =D22-I22-K22-M22 -> 0 | W22: =P22-T22-U22 -> 0 | X22: =O22-G22-K22-L22 -> 0 | Y22: =D22*C22/12 -> 31358.169 | Z22: =AA21 -> 0 | AA22: =MAX(0,Z22+Y22-H22) -> 0 | AB22: =P22*C22/12 -> 31358.169 | AC22: =AD21 -> 0 | AD22: =MAX(0,AC22+AB22-S22) -> 0 | AE22: =IF(MOD(A22-1,60)=0,1,0) -> 0 | AF22: =IF(A22>入力設定!$B$6*12,0,IF(AND(ISNUMBER(C22),C22>=0,C22<=1),0,1)) -> 0
A23: =18 -> 18 | B23: =EDATE(入力設定!$B$7,A23-1) -> 46844 | C23: =INDEX(入力設定!$C$15:$C$24,INT((A23-1)/60)+1) -> 0.0111 | D23: =M22 -> 33831477 | E23: =N22 -> 403 | F23: =IF(D23+Z23<0.000001,0,IF(D23<0.000001,F22,IF(OR(AE23=1,AND(K22>0,入力設定!$B$8="返済額軽減型",入力設定!$B$11="翌月")),IF(C23=0,D23/MAX(1,E23),D23*(C23/12)/(1-(1+C23/12)^(-MAX(1,E23)))),F22))) -> 100604.4 | G23: =IF(D23+Z23<0.000001,0,IF(E23<=1,D23+Y23+Z23,MIN(D23+Y23+Z23,F23))) -> 100604.4 | H23: =MIN(G23,Y23+Z23) -> 31294.116 | I23: =G23-H23 -> 69310.285 | J23: =SUMIFS(入力設定!$G$5:$G$24,入力設定!$F$5:$F$24,A23) -> 0 | K23: =MIN(MAX(0,D23-I23),J23) -> 0 | L23: =IF(K23>0,入力設定!$B$9,0) -> 0 | M23: =MAX(0,D23-I23-K23) -> 33762167 | N23: =IF(M23+AA23<0.000001,0,IF(AND(K23>0,入力設定!$B$8="期間短縮型",AA23<0.000001,F23>M23*C23/12),MAX(1,MIN(E23-1,IF(C23=0,ROUNDUP(M23/F23,0),ROUNDUP(-LN(1-M23*(C23/12)/F23)/LN(1+C23/12),0)))),MAX(1,E23-1))) -> 402 | O23: =SUM(G23,K23,L23) -> 100604.4 | P23: =U22 -> 33831477 | Q23: =IF(OR(A23>入力設定!$B$6*12,P23+AC23<0.000001),0,IF(P23<0.000001,Q22,IF(AE23=1,IF(C23=0,P23/MAX(1,入力設定!$B$6*12-A23+1),P23*(C23/12)/(1-(1+C23/12)^(-MAX(1,入力設定!$B$6*12-A23+1)))),Q22))) -> 100604.4 | R23: =IF(P23+AC23<0.000001,0,IF(A23=入力設定!$B$6*12,P23+AB23+AC23,MIN(Q23,P23+AB23+AC23))) -> 100604.4 | S23: =MIN(R23,AB23+AC23) -> 31294.116 | T23: =R23-S23 -> 69310.285 | U23: =MAX(0,P23-T23) -> 33762167 | V23: =D23-I23-K23-M23 -> 0 | W23: =P23-T23-U23 -> 0 | X23: =O23-G23-K23-L23 -> 0 | Y23: =D23*C23/12 -> 31294.116 | Z23: =AA22 -> 0 | AA23: =MAX(0,Z23+Y23-H23) -> 0 | AB23: =P23*C23/12 -> 31294.116 | AC23: =AD22 -> 0 | AD23: =MAX(0,AC23+AB23-S23) -> 0 | AE23: =IF(MOD(A23-1,60)=0,1,0) -> 0 | AF23: =IF(A23>入力設定!$B$6*12,0,IF(AND(ISNUMBER(C23),C23>=0,C23<=1),0,1)) -> 0
A24: =19 -> 19 | B24: =EDATE(入力設定!$B$7,A24-1) -> 46874 | C24: =INDEX(入力設定!$C$15:$C$24,INT((A24-1)/60)+1) -> 0.0111 | D24: =M23 -> 33762167 | E24: =N23 -> 402 | F24: =IF(D24+Z24<0.000001,0,IF(D24<0.000001,F23,IF(OR(AE24=1,AND(K23>0,入力設定!$B$8="返済額軽減型",入力設定!$B$11="翌月")),IF(C24=0,D24/MAX(1,E24),D24*(C24/12)/(1-(1+C24/12)^(-MAX(1,E24)))),F23))) -> 100604.4 | G24: =IF(D24+Z24<0.000001,0,IF(E24<=1,D24+Y24+Z24,MIN(D24+Y24+Z24,F24))) -> 100604.4 | H24: =MIN(G24,Y24+Z24) -> 31230.004 | I24: =G24-H24 -> 69374.397 | J24: =SUMIFS(入力設定!$G$5:$G$24,入力設定!$F$5:$F$24,A24) -> 0 | K24: =MIN(MAX(0,D24-I24),J24) -> 0 | L24: =IF(K24>0,入力設定!$B$9,0) -> 0 | M24: =MAX(0,D24-I24-K24) -> 33692792 | N24: =IF(M24+AA24<0.000001,0,IF(AND(K24>0,入力設定!$B$8="期間短縮型",AA24<0.000001,F24>M24*C24/12),MAX(1,MIN(E24-1,IF(C24=0,ROUNDUP(M24/F24,0),ROUNDUP(-LN(1-M24*(C24/12)/F24)/LN(1+C24/12),0)))),MAX(1,E24-1))) -> 401 | O24: =SUM(G24,K24,L24) -> 100604.4 | P24: =U23 -> 33762167 | Q24: =IF(OR(A24>入力設定!$B$6*12,P24+AC24<0.000001),0,IF(P24<0.000001,Q23,IF(AE24=1,IF(C24=0,P24/MAX(1,入力設定!$B$6*12-A24+1),P24*(C24/12)/(1-(1+C24/12)^(-MAX(1,入力設定!$B$6*12-A24+1)))),Q23))) -> 100604.4 | R24: =IF(P24+AC24<0.000001,0,IF(A24=入力設定!$B$6*12,P24+AB24+AC24,MIN(Q24,P24+AB24+AC24))) -> 100604.4 | S24: =MIN(R24,AB24+AC24) -> 31230.004 | T24: =R24-S24 -> 69374.397 | U24: =MAX(0,P24-T24) -> 33692792 | V24: =D24-I24-K24-M24 -> 0 | W24: =P24-T24-U24 -> 0 | X24: =O24-G24-K24-L24 -> 0 | Y24: =D24*C24/12 -> 31230.004 | Z24: =AA23 -> 0 | AA24: =MAX(0,Z24+Y24-H24) -> 0 | AB24: =P24*C24/12 -> 31230.004 | AC24: =AD23 -> 0 | AD24: =MAX(0,AC24+AB24-S24) -> 0 | AE24: =IF(MOD(A24-1,60)=0,1,0) -> 0 | AF24: =IF(A24>入力設定!$B$6*12,0,IF(AND(ISNUMBER(C24),C24>=0,C24<=1),0,1)) -> 0
A25: =20 -> 20 | B25: =EDATE(入力設定!$B$7,A25-1) -> 46905 | C25: =INDEX(入力設定!$C$15:$C$24,INT((A25-1)/60)+1) -> 0.0111 | D25: =M24 -> 33692792 | E25: =N24 -> 401 | F25: =IF(D25+Z25<0.000001,0,IF(D25<0.000001,F24,IF(OR(AE25=1,AND(K24>0,入力設定!$B$8="返済額軽減型",入力設定!$B$11="翌月")),IF(C25=0,D25/MAX(1,E25),D25*(C25/12)/(1-(1+C25/12)^(-MAX(1,E25)))),F24))) -> 100604.4 | G25: =IF(D25+Z25<0.000001,0,IF(E25<=1,D25+Y25+Z25,MIN(D25+Y25+Z25,F25))) -> 100604.4 | H25: =MIN(G25,Y25+Z25) -> 31165.833 | I25: =G25-H25 -> 69438.569 | J25: =SUMIFS(入力設定!$G$5:$G$24,入力設定!$F$5:$F$24,A25) -> 0 | K25: =MIN(MAX(0,D25-I25),J25) -> 0 | L25: =IF(K25>0,入力設定!$B$9,0) -> 0 | M25: =MAX(0,D25-I25-K25) -> 33623354 | N25: =IF(M25+AA25<0.000001,0,IF(AND(K25>0,入力設定!$B$8="期間短縮型",AA25<0.000001,F25>M25*C25/12),MAX(1,MIN(E25-1,IF(C25=0,ROUNDUP(M25/F25,0),ROUNDUP(-LN(1-M25*(C25/12)/F25)/LN(1+C25/12),0)))),MAX(1,E25-1))) -> 400 | O25: =SUM(G25,K25,L25) -> 100604.4 | P25: =U24 -> 33692792 | Q25: =IF(OR(A25>入力設定!$B$6*12,P25+AC25<0.000001),0,IF(P25<0.000001,Q24,IF(AE25=1,IF(C25=0,P25/MAX(1,入力設定!$B$6*12-A25+1),P25*(C25/12)/(1-(1+C25/12)^(-MAX(1,入力設定!$B$6*12-A25+1)))),Q24))) -> 100604.4 | R25: =IF(P25+AC25<0.000001,0,IF(A25=入力設定!$B$6*12,P25+AB25+AC25,MIN(Q25,P25+AB25+AC25))) -> 100604.4 | S25: =MIN(R25,AB25+AC25) -> 31165.833 | T25: =R25-S25 -> 69438.569 | U25: =MAX(0,P25-T25) -> 33623354 | V25: =D25-I25-K25-M25 -> 0 | W25: =P25-T25-U25 -> 0 | X25: =O25-G25-K25-L25 -> 0 | Y25: =D25*C25/12 -> 31165.833 | Z25: =AA24 -> 0 | AA25: =MAX(0,Z25+Y25-H25) -> 0 | AB25: =P25*C25/12 -> 31165.833 | AC25: =AD24 -> 0 | AD25: =MAX(0,AC25+AB25-S25) -> 0 | AE25: =IF(MOD(A25-1,60)=0,1,0) -> 0 | AF25: =IF(A25>入力設定!$B$6*12,0,IF(AND(ISNUMBER(C25),C25>=0,C25<=1),0,1)) -> 0
A26: =21 -> 21 | B26: =EDATE(入力設定!$B$7,A26-1) -> 46935 | C26: =INDEX(入力設定!$C$15:$C$24,INT((A26-1)/60)+1) -> 0.0111 | D26: =M25 -> 33623354 | E26: =N25 -> 400 | F26: =IF(D26+Z26<0.000001,0,IF(D26<0.000001,F25,IF(OR(AE26=1,AND(K25>0,入力設定!$B$8="返済額軽減型",入力設定!$B$11="翌月")),IF(C26=0,D26/MAX(1,E26),D26*(C26/12)/(1-(1+C26/12)^(-MAX(1,E26)))),F25))) -> 100604.4 | G26: =IF(D26+Z26<0.000001,0,IF(E26<=1,D26+Y26+Z26,MIN(D26+Y26+Z26,F26))) -> 100604.4 | H26: =MIN(G26,Y26+Z26) -> 31101.602 | I26: =G26-H26 -> 69502.799 | J26: =SUMIFS(入力設定!$G$5:$G$24,入力設定!$F$5:$F$24,A26) -> 0 | K26: =MIN(MAX(0,D26-I26),J26) -> 0 | L26: =IF(K26>0,入力設定!$B$9,0) -> 0 | M26: =MAX(0,D26-I26-K26) -> 33553851 | N26: =IF(M26+AA26<0.000001,0,IF(AND(K26>0,入力設定!$B$8="期間短縮型",AA26<0.000001,F26>M26*C26/12),MAX(1,MIN(E26-1,IF(C26=0,ROUNDUP(M26/F26,0),ROUNDUP(-LN(1-M26*(C26/12)/F26)/LN(1+C26/12),0)))),MAX(1,E26-1))) -> 399 | O26: =SUM(G26,K26,L26) -> 100604.4 | P26: =U25 -> 33623354 | Q26: =IF(OR(A26>入力設定!$B$6*12,P26+AC26<0.000001),0,IF(P26<0.000001,Q25,IF(AE26=1,IF(C26=0,P26/MAX(1,入力設定!$B$6*12-A26+1),P26*(C26/12)/(1-(1+C26/12)^(-MAX(1,入力設定!$B$6*12-A26+1)))),Q25))) -> 100604.4 | R26: =IF(P26+AC26<0.000001,0,IF(A26=入力設定!$B$6*12,P26+AB26+AC26,MIN(Q26,P26+AB26+AC26))) -> 100604.4 | S26: =MIN(R26,AB26+AC26) -> 31101.602 | T26: =R26-S26 -> 69502.799 | U26: =MAX(0,P26-T26) -> 33553851 | V26: =D26-I26-K26-M26 -> 0 | W26: =P26-T26-U26 -> 0 | X26: =O26-G26-K26-L26 -> 0 | Y26: =D26*C26/12 -> 31101.602 | Z26: =AA25 -> 0 | AA26: =MAX(0,Z26+Y26-H26) -> 0 | AB26: =P26*C26/12 -> 31101.602 | AC26: =AD25 -> 0 | AD26: =MAX(0,AC26+AB26-S26) -> 0 | AE26: =IF(MOD(A26-1,60)=0,1,0) -> 0 | AF26: =IF(A26>入力設定!$B$6*12,0,IF(AND(ISNUMBER(C26),C26>=0,C26<=1),0,1)) -> 0
A27: =22 -> 22 | B27: =EDATE(入力設定!$B$7,A27-1) -> 46966 | C27: =INDEX(入力設定!$C$15:$C$24,INT((A27-1)/60)+1) -> 0.0111 | D27: =M26 -> 33553851 | E27: =N26 -> 399 | F27: =IF(D27+Z27<0.000001,0,IF(D27<0.000001,F26,IF(OR(AE27=1,AND(K26>0,入力設定!$B$8="返済額軽減型",入力設定!$B$11="翌月")),IF(C27=0,D27/MAX(1,E27),D27*(C27/12)/(1-(1+C27/12)^(-MAX(1,E27)))),F26))) -> 100604.4 | G27: =IF(D27+Z27<0.000001,0,IF(E27<=1,D27+Y27+Z27,MIN(D27+Y27+Z27,F27))) -> 100604.4 | H27: =MIN(G27,Y27+Z27) -> 31037.312 | I27: =G27-H27 -> 69567.089 | J27: =SUMIFS(入力設定!$G$5:$G$24,入力設定!$F$5:$F$24,A27) -> 0 | K27: =MIN(MAX(0,D27-I27),J27) -> 0 | L27: =IF(K27>0,入力設定!$B$9,0) -> 0 | M27: =MAX(0,D27-I27-K27) -> 33484284 | N27: =IF(M27+AA27<0.000001,0,IF(AND(K27>0,入力設定!$B$8="期間短縮型",AA27<0.000001,F27>M27*C27/12),MAX(1,MIN(E27-1,IF(C27=0,ROUNDUP(M27/F27,0),ROUNDUP(-LN(1-M27*(C27/12)/F27)/LN(1+C27/12),0)))),MAX(1,E27-1))) -> 398 | O27: =SUM(G27,K27,L27) -> 100604.4 | P27: =U26 -> 33553851 | Q27: =IF(OR(A27>入力設定!$B$6*12,P27+AC27<0.000001),0,IF(P27<0.000001,Q26,IF(AE27=1,IF(C27=0,P27/MAX(1,入力設定!$B$6*12-A27+1),P27*(C27/12)/(1-(1+C27/12)^(-MAX(1,入力設定!$B$6*12-A27+1)))),Q26))) -> 100604.4 | R27: =IF(P27+AC27<0.000001,0,IF(A27=入力設定!$B$6*12,P27+AB27+AC27,MIN(Q27,P27+AB27+AC27))) -> 100604.4 | S27: =MIN(R27,AB27+AC27) -> 31037.312 | T27: =R27-S27 -> 69567.089 | U27: =MAX(0,P27-T27) -> 33484284 | V27: =D27-I27-K27-M27 -> 0 | W27: =P27-T27-U27 -> 0 | X27: =O27-G27-K27-L27 -> 0 | Y27: =D27*C27/12 -> 31037.312 | Z27: =AA26 -> 0 | AA27: =MAX(0,Z27+Y27-H27) -> 0 | AB27: =P27*C27/12 -> 31037.312 | AC27: =AD26 -> 0 | AD27: =MAX(0,AC27+AB27-S27) -> 0 | AE27: =IF(MOD(A27-1,60)=0,1,0) -> 0 | AF27: =IF(A27>入力設定!$B$6*12,0,IF(AND(ISNUMBER(C27),C27>=0,C27<=1),0,1)) -> 0
A28: =23 -> 23 | B28: =EDATE(入力設定!$B$7,A28-1) -> 46997 | C28: =INDEX(入力設定!$C$15:$C$24,INT((A28-1)/60)+1) -> 0.0111 | D28: =M27 -> 33484284 | E28: =N27 -> 398 | F28: =IF(D28+Z28<0.000001,0,IF(D28<0.000001,F27,IF(OR(AE28=1,AND(K27>0,入力設定!$B$8="返済額軽減型",入力設定!$B$11="翌月")),IF(C28=0,D28/MAX(1,E28),D28*(C28/12)/(1-(1+C28/12)^(-MAX(1,E28)))),F27))) -> 100604.4 | G28: =IF(D28+Z28<0.000001,0,IF(E28<=1,D28+Y28+Z28,MIN(D28+Y28+Z28,F28))) -> 100604.4 | H28: =MIN(G28,Y28+Z28) -> 30972.963 | I28: =G28-H28 -> 69631.439 | J28: =SUMIFS(入力設定!$G$5:$G$24,入力設定!$F$5:$F$24,A28) -> 0 | K28: =MIN(MAX(0,D28-I28),J28) -> 0 | L28: =IF(K28>0,入力設定!$B$9,0) -> 0 | M28: =MAX(0,D28-I28-K28) -> 33414653 | N28: =IF(M28+AA28<0.000001,0,IF(AND(K28>0,入力設定!$B$8="期間短縮型",AA28<0.000001,F28>M28*C28/12),MAX(1,MIN(E28-1,IF(C28=0,ROUNDUP(M28/F28,0),ROUNDUP(-LN(1-M28*(C28/12)/F28)/LN(1+C28/12),0)))),MAX(1,E28-1))) -> 397 | O28: =SUM(G28,K28,L28) -> 100604.4 | P28: =U27 -> 33484284 | Q28: =IF(OR(A28>入力設定!$B$6*12,P28+AC28<0.000001),0,IF(P28<0.000001,Q27,IF(AE28=1,IF(C28=0,P28/MAX(1,入力設定!$B$6*12-A28+1),P28*(C28/12)/(1-(1+C28/12)^(-MAX(1,入力設定!$B$6*12-A28+1)))),Q27))) -> 100604.4 | R28: =IF(P28+AC28<0.000001,0,IF(A28=入力設定!$B$6*12,P28+AB28+AC28,MIN(Q28,P28+AB28+AC28))) -> 100604.4 | S28: =MIN(R28,AB28+AC28) -> 30972.963 | T28: =R28-S28 -> 69631.439 | U28: =MAX(0,P28-T28) -> 33414653 | V28: =D28-I28-K28-M28 -> 0 | W28: =P28-T28-U28 -> 0 | X28: =O28-G28-K28-L28 -> 0 | Y28: =D28*C28/12 -> 30972.963 | Z28: =AA27 -> 0 | AA28: =MAX(0,Z28+Y28-H28) -> 0 | AB28: =P28*C28/12 -> 30972.963 | AC28: =AD27 -> 0 | AD28: =MAX(0,AC28+AB28-S28) -> 0 | AE28: =IF(MOD(A28-1,60)=0,1,0) -> 0 | AF28: =IF(A28>入力設定!$B$6*12,0,IF(AND(ISNUMBER(C28),C28>=0,C28<=1),0,1)) -> 0
A29: =24 -> 24 | B29: =EDATE(入力設定!$B$7,A29-1) -> 47027 | C29: =INDEX(入力設定!$C$15:$C$24,INT((A29-1)/60)+1) -> 0.0111 | D29: =M28 -> 33414653 | E29: =N28 -> 397 | F29: =IF(D29+Z29<0.000001,0,IF(D29<0.000001,F28,IF(OR(AE29=1,AND(K28>0,入力設定!$B$8="返済額軽減型",入力設定!$B$11="翌月")),IF(C29=0,D29/MAX(1,E29),D29*(C29/12)/(1-(1+C29/12)^(-MAX(1,E29)))),F28))) -> 100604.4 | G29: =IF(D29+Z29<0.000001,0,IF(E29<=1,D29+Y29+Z29,MIN(D29+Y29+Z29,F29))) -> 100604.4 | H29: =MIN(G29,Y29+Z29) -> 30908.554 | I29: =G29-H29 -> 69695.848 | J29: =SUMIFS(入力設定!$G$5:$G$24,入力設定!$F$5:$F$24,A29) -> 0 | K29: =MIN(MAX(0,D29-I29),J29) -> 0 | L29: =IF(K29>0,入力設定!$B$9,0) -> 0 | M29: =MAX(0,D29-I29-K29) -> 33344957 | N29: =IF(M29+AA29<0.000001,0,IF(AND(K29>0,入力設定!$B$8="期間短縮型",AA29<0.000001,F29>M29*C29/12),MAX(1,MIN(E29-1,IF(C29=0,ROUNDUP(M29/F29,0),ROUNDUP(-LN(1-M29*(C29/12)/F29)/LN(1+C29/12),0)))),MAX(1,E29-1))) -> 396 | O29: =SUM(G29,K29,L29) -> 100604.4 | P29: =U28 -> 33414653 | Q29: =IF(OR(A29>入力設定!$B$6*12,P29+AC29<0.000001),0,IF(P29<0.000001,Q28,IF(AE29=1,IF(C29=0,P29/MAX(1,入力設定!$B$6*12-A29+1),P29*(C29/12)/(1-(1+C29/12)^(-MAX(1,入力設定!$B$6*12-A29+1)))),Q28))) -> 100604.4 | R29: =IF(P29+AC29<0.000001,0,IF(A29=入力設定!$B$6*12,P29+AB29+AC29,MIN(Q29,P29+AB29+AC29))) -> 100604.4 | S29: =MIN(R29,AB29+AC29) -> 30908.554 | T29: =R29-S29 -> 69695.848 | U29: =MAX(0,P29-T29) -> 33344957 | V29: =D29-I29-K29-M29 -> 0 | W29: =P29-T29-U29 -> 0 | X29: =O29-G29-K29-L29 -> 0 | Y29: =D29*C29/12 -> 30908.554 | Z29: =AA28 -> 0 | AA29: =MAX(0,Z29+Y29-H29) -> 0 | AB29: =P29*C29/12 -> 30908.554 | AC29: =AD28 -> 0 | AD29: =MAX(0,AC29+AB29-S29) -> 0 | AE29: =IF(MOD(A29-1,60)=0,1,0) -> 0 | AF29: =IF(A29>入力設定!$B$6*12,0,IF(AND(ISNUMBER(C29),C29>=0,C29<=1),0,1)) -> 0
A30: =25 -> 25 | B30: =EDATE(入力設定!$B$7,A30-1) -> 47058 | C30: =INDEX(入力設定!$C$15:$C$24,INT((A30-1)/60)+1) -> 0.0111 | D30: =M29 -> 33344957 | E30: =N29 -> 396 | F30: =IF(D30+Z30<0.000001,0,IF(D30<0.000001,F29,IF(OR(AE30=1,AND(K29>0,入力設定!$B$8="返済額軽減型",入力設定!$B$11="翌月")),IF(C30=0,D30/MAX(1,E30),D30*(C30/12)/(1-(1+C30/12)^(-MAX(1,E30)))),F29))) -> 100604.4 | G30: =IF(D30+Z30<0.000001,0,IF(E30<=1,D30+Y30+Z30,MIN(D30+Y30+Z30,F30))) -> 100604.4 | H30: =MIN(G30,Y30+Z30) -> 30844.085 | I30: =G30-H30 -> 69760.317 | J30: =SUMIFS(入力設定!$G$5:$G$24,入力設定!$F$5:$F$24,A30) -> 0 | K30: =MIN(MAX(0,D30-I30),J30) -> 0 | L30: =IF(K30>0,入力設定!$B$9,0) -> 0 | M30: =MAX(0,D30-I30-K30) -> 33275196 | N30: =IF(M30+AA30<0.000001,0,IF(AND(K30>0,入力設定!$B$8="期間短縮型",AA30<0.000001,F30>M30*C30/12),MAX(1,MIN(E30-1,IF(C30=0,ROUNDUP(M30/F30,0),ROUNDUP(-LN(1-M30*(C30/12)/F30)/LN(1+C30/12),0)))),MAX(1,E30-1))) -> 395 | O30: =SUM(G30,K30,L30) -> 100604.4 | P30: =U29 -> 33344957 | Q30: =IF(OR(A30>入力設定!$B$6*12,P30+AC30<0.000001),0,IF(P30<0.000001,Q29,IF(AE30=1,IF(C30=0,P30/MAX(1,入力設定!$B$6*12-A30+1),P30*(C30/12)/(1-(1+C30/12)^(-MAX(1,入力設定!$B$6*12-A30+1)))),Q29))) -> 100604.4 | R30: =IF(P30+AC30<0.000001,0,IF(A30=入力設定!$B$6*12,P30+AB30+AC30,MIN(Q30,P30+AB30+AC30))) -> 100604.4 | S30: =MIN(R30,AB30+AC30) -> 30844.085 | T30: =R30-S30 -> 69760.317 | U30: =MAX(0,P30-T30) -> 33275196 | V30: =D30-I30-K30-M30 -> 0 | W30: =P30-T30-U30 -> 0 | X30: =O30-G30-K30-L30 -> 0 | Y30: =D30*C30/12 -> 30844.085 | Z30: =AA29 -> 0 | AA30: =MAX(0,Z30+Y30-H30) -> 0 | AB30: =P30*C30/12 -> 30844.085 | AC30: =AD29 -> 0 | AD30: =MAX(0,AC30+AB30-S30) -> 0 | AE30: =IF(MOD(A30-1,60)=0,1,0) -> 0 | AF30: =IF(A30>入力設定!$B$6*12,0,IF(AND(ISNUMBER(C30),C30>=0,C30<=1),0,1)) -> 0
